BEGIN:VCALENDAR
VERSION:2.0
PRODID:-//Trainingsschool AW - ECPv6.15.20//NONSGML v1.0//EN
CALSCALE:GREGORIAN
METHOD:PUBLISH
X-WR-CALNAME:Trainingsschool AW
X-ORIGINAL-URL:https://trainingsschoolaw.nl
X-WR-CALDESC:Evenementen voor Trainingsschool AW
REFRESH-INTERVAL;VALUE=DURATION:PT1H
X-Robots-Tag:noindex
X-PUBLISHED-TTL:PT1H
BEGIN:VTIMEZONE
TZID:UTC
BEGIN:STANDARD
TZOFFSETFROM:+0000
TZOFFSETTO:+0000
TZNAME:UTC
DTSTART:20250101T000000
END:STANDARD
END:VTIMEZONE
BEGIN:VEVENT
DTSTART;VALUE=DATE:20260321
DTEND;VALUE=DATE:20260412
DTSTAMP:20260421T154131
CREATED:20260122T222442Z
LAST-MODIFIED:20260122T222442Z
UID:7062-1774051200-1775951999@trainingsschoolaw.nl
SUMMARY:Jonge Honden
DESCRIPTION:Op zaterdag\, tijd 10:00 – 11:00
URL:https://trainingsschoolaw.nl/training/jonge-honden-11/
LOCATION:Trainingsschool AW Utrecht\, Gageldijk 3\, Utrecht\, 3566 ME\, Netherlands
CATEGORIES:Jonge honden module
ORGANIZER;CN="Trainingsschool AW Utrecht":MAILTO:utrecht@trainingsschoolaw.nl
END:VEVENT
END:VCALENDAR