BEGIN:VCALENDAR
VERSION:2.0
PRODID:-//Trainingsschool AW - ECPv6.15.20//NONSGML v1.0//EN
CALSCALE:GREGORIAN
METHOD:PUBLISH
X-WR-CALNAME:Trainingsschool AW
X-ORIGINAL-URL:https://trainingsschoolaw.nl
X-WR-CALDESC:Evenementen voor Trainingsschool AW
REFRESH-INTERVAL;VALUE=DURATION:PT1H
X-Robots-Tag:noindex
X-PUBLISHED-TTL:PT1H
BEGIN:VTIMEZONE
TZID:UTC
BEGIN:STANDARD
TZOFFSETFROM:+0000
TZOFFSETTO:+0000
TZNAME:UTC
DTSTART:20240101T000000
END:STANDARD
END:VTIMEZONE
BEGIN:VEVENT
DTSTART;VALUE=DATE:20250929
DTEND;VALUE=DATE:20250930
DTSTAMP:20260422T020217
CREATED:20250827T172527Z
LAST-MODIFIED:20250827T172527Z
UID:5280-1759104000-1759190399@trainingsschoolaw.nl
SUMMARY:Jonge honden module (extra ingepland)
DESCRIPTION:op maandag van 20:00 – 21:00 uur
URL:https://trainingsschoolaw.nl/training/jonge-honden-module-extra-ingepland/
LOCATION:Trainingsschool AW Apeldoorn\, De Voorwaarts 55\, Apeldoorn\, 7321MA\, Netherlands
CATEGORIES:Jonge honden module
ORGANIZER;CN="Trainingsschool AW Apeldoorn":MAILTO:apeldoorn@trainingsschoolaw.nl
END:VEVENT
END:VCALENDAR