BEGIN:VCALENDAR
VERSION:2.0
PRODID:-//Trainingsschool AW - ECPv6.15.20//NONSGML v1.0//EN
CALSCALE:GREGORIAN
METHOD:PUBLISH
X-WR-CALNAME:Trainingsschool AW
X-ORIGINAL-URL:https://trainingsschoolaw.nl
X-WR-CALDESC:Evenementen voor Trainingsschool AW
REFRESH-INTERVAL;VALUE=DURATION:PT1H
X-Robots-Tag:noindex
X-PUBLISHED-TTL:PT1H
BEGIN:VTIMEZONE
TZID:UTC
BEGIN:STANDARD
TZOFFSETFROM:+0000
TZOFFSETTO:+0000
TZNAME:UTC
DTSTART:20250101T000000
END:STANDARD
END:VTIMEZONE
BEGIN:VEVENT
DTSTART;TZID=UTC:20260119T190000
DTEND;TZID=UTC:20260119T200000
DTSTAMP:20260421T203317
CREATED:20260112T103921Z
LAST-MODIFIED:20260112T103921Z
UID:6994-1768849200-1768852800@trainingsschoolaw.nl
SUMMARY:Samen in balans 2
DESCRIPTION:Startdatum Maandag 19 januari : 19.00-20.00 uur \nLesdatums: 19\,26jan\,2\,9 feb
URL:https://trainingsschoolaw.nl/training/samen-in-balans-2-15/
CATEGORIES:Samen in balans deel 2
ORGANIZER;CN="Trainingsschool AW Roermond":MAILTO:roermond@trainingsschoolaw.nl
END:VEVENT
END:VCALENDAR