BEGIN:VCALENDAR
VERSION:2.0
PRODID:-//Trainingsschool AW - ECPv6.15.20//NONSGML v1.0//EN
CALSCALE:GREGORIAN
METHOD:PUBLISH
X-WR-CALNAME:Trainingsschool AW
X-ORIGINAL-URL:https://trainingsschoolaw.nl
X-WR-CALDESC:Evenementen voor Trainingsschool AW
REFRESH-INTERVAL;VALUE=DURATION:PT1H
X-Robots-Tag:noindex
X-PUBLISHED-TTL:PT1H
BEGIN:VTIMEZONE
TZID:UTC
BEGIN:STANDARD
TZOFFSETFROM:+0000
TZOFFSETTO:+0000
TZNAME:UTC
DTSTART:20240101T000000
END:STANDARD
END:VTIMEZONE
BEGIN:VEVENT
DTSTART;VALUE=DATE:20250826
DTEND;VALUE=DATE:20250827
DTSTAMP:20260422T101951
CREATED:20250517T122007Z
LAST-MODIFIED:20250517T122007Z
UID:4124-1756166400-1756252799@trainingsschoolaw.nl
SUMMARY:Samen in Balans deel 1 / Jonge Honden Module
DESCRIPTION:Op dinsdag van 19.00 – 20.00 uur \nStartdatum: 26 augustus
URL:https://trainingsschoolaw.nl/training/samen-in-balans-deel-1-jonge-honden-module-21/
LOCATION:Trainingsschool AW Heemskerk\, De Velst\, Heemskerk\, Netherlands
ORGANIZER;CN="Trainingsschool AW Heemskerk":MAILTO:heemskerk@trainingsschoolaw.nl
END:VEVENT
END:VCALENDAR