BEGIN:VCALENDAR
VERSION:2.0
PRODID:-//Trainingsschool AW - ECPv6.15.20//NONSGML v1.0//EN
CALSCALE:GREGORIAN
METHOD:PUBLISH
X-WR-CALNAME:Trainingsschool AW
X-ORIGINAL-URL:https://trainingsschoolaw.nl
X-WR-CALDESC:Evenementen voor Trainingsschool AW
REFRESH-INTERVAL;VALUE=DURATION:PT1H
X-Robots-Tag:noindex
X-PUBLISHED-TTL:PT1H
BEGIN:VTIMEZONE
TZID:UTC
BEGIN:STANDARD
TZOFFSETFROM:+0000
TZOFFSETTO:+0000
TZNAME:UTC
DTSTART:20250101T000000
END:STANDARD
END:VTIMEZONE
BEGIN:VEVENT
DTSTART;VALUE=DATE:20260713
DTEND;VALUE=DATE:20260804
DTSTAMP:20260421T084305
CREATED:20260413T172200Z
LAST-MODIFIED:20260413T172200Z
UID:8033-1783900800-1785801599@trainingsschoolaw.nl
SUMMARY:Samen in balans deel 1 / Jonge Honden module (Extra module)
DESCRIPTION:Dag: maandag \nStartdatum: 13 juli 2026. Lessen13/7\, 20/7\, 27/7\, 3/8. \nTijd: 19:00 uur – 20:00 uur
URL:https://trainingsschoolaw.nl/training/samen-in-balans-deel-1-jonge-honden-module-extra-module-4/
LOCATION:Trainingsschool Capelle a/d IJssel\, Parkeerplaats Bermweg\, Capelle a/d IJssel\, 2907 LD\, Netherlands
CATEGORIES:Samen in Balans deel 1
ORGANIZER;CN="Trainingsschool AW Capelle a/d IJssel":MAILTO:capelle@trainingsschoolaw.nl
END:VEVENT
END:VCALENDAR