BEGIN:VCALENDAR
VERSION:2.0
PRODID:-//Trainingsschool AW - ECPv6.15.20//NONSGML v1.0//EN
CALSCALE:GREGORIAN
METHOD:PUBLISH
X-ORIGINAL-URL:https://trainingsschoolaw.nl
X-WR-CALDESC:Evenementen voor Trainingsschool AW
REFRESH-INTERVAL;VALUE=DURATION:PT1H
X-Robots-Tag:noindex
X-PUBLISHED-TTL:PT1H
BEGIN:VTIMEZONE
TZID:UTC
BEGIN:STANDARD
TZOFFSETFROM:+0000
TZOFFSETTO:+0000
TZNAME:UTC
DTSTART:20250101T000000
END:STANDARD
END:VTIMEZONE
BEGIN:VEVENT
DTSTART;VALUE=DATE:20260410
DTEND;VALUE=DATE:20260502
DTSTAMP:20260421T095840
CREATED:20260212T103055Z
LAST-MODIFIED:20260212T103055Z
UID:7532-1775779200-1777679999@trainingsschoolaw.nl
SUMMARY:Jonge Honden Module
DESCRIPTION:Op de vrijdag van 10 april t/m 1 mei\nTijd: 12:00 uur – 13:00 uur
URL:https://trainingsschoolaw.nl/training/jonge-honden-module-91/
LOCATION:Trainingsschool AW Amersfoort\, Zuiderinslag\, Hoevelaken\, Gelderland\, 3871 MR\, Netherlands
CATEGORIES:Jonge honden module
ORGANIZER;CN="Trainingsschool AW Amersfoort":MAILTO:amersfoort@trainingsschoolaw.nl
END:VEVENT
BEGIN:VEVENT
DTSTART;VALUE=DATE:20260411
DTEND;VALUE=DATE:20260510
DTSTAMP:20260421T095840
CREATED:20260316T092552Z
LAST-MODIFIED:20260316T092658Z
UID:7857-1775865600-1778371199@trainingsschoolaw.nl
SUMMARY:Jongen Honden Module / Samen in Balans 1
DESCRIPTION:Zaterdag van 10.30 – 11.30 uur.\nLet op: 25 april vervalt ivm vakantie
URL:https://trainingsschoolaw.nl/training/jongen-honden-module-samen-in-balans-1/
LOCATION:Trainingsschool AW Tilburg\, Leijpark\, Tilburg\, 5022AX\, Netherlands
CATEGORIES:Jonge honden module,Samen in Balans deel 1
ORGANIZER;CN="Trainingsschool AW Tilburg":MAILTO:tilburg@trainingsschoolaw.nl
END:VEVENT
BEGIN:VEVENT
DTSTART;VALUE=DATE:20260418
DTEND;VALUE=DATE:20260510
DTSTAMP:20260421T095840
CREATED:20260122T222537Z
LAST-MODIFIED:20260122T222537Z
UID:7066-1776470400-1778371199@trainingsschoolaw.nl
SUMMARY:Jonge Honden
DESCRIPTION:Op zaterdag\, tijd 10:00 – 11:00
URL:https://trainingsschoolaw.nl/training/jonge-honden-12/
LOCATION:Trainingsschool AW Utrecht\, Gageldijk 3\, Utrecht\, 3566 ME\, Netherlands
CATEGORIES:Jonge honden module
ORGANIZER;CN="Trainingsschool AW Utrecht":MAILTO:utrecht@trainingsschoolaw.nl
END:VEVENT
BEGIN:VEVENT
DTSTART;VALUE=DATE:20260418
DTEND;VALUE=DATE:20260510
DTSTAMP:20260421T095840
CREATED:20260206T141507Z
LAST-MODIFIED:20260409T063937Z
UID:7391-1776470400-1778371199@trainingsschoolaw.nl
SUMMARY:Jonge honden module
DESCRIPTION:Op zaterdag van 9:00 tot 10:00 uur\n( VOL)
URL:https://trainingsschoolaw.nl/training/jonge-honden-module-85/
LOCATION:Trainingsschool AW Zoetermeer\, Parkeerplaats Amerikaweg\, Zoetermeer\, Netherlands
CATEGORIES:Jonge honden module
ORGANIZER;CN="Trainingsschool AW Zoetermeer":MAILTO:zoetermeer@trainingsschoolaw.nl
END:VEVENT
BEGIN:VEVENT
DTSTART;VALUE=DATE:20260419
DTEND;VALUE=DATE:20260511
DTSTAMP:20260421T095840
CREATED:20250720T170315Z
LAST-MODIFIED:20260207T142918Z
UID:4847-1776556800-1778457599@trainingsschoolaw.nl
SUMMARY:Samen in balans deel 1 / Jonge Honden module
DESCRIPTION:Dag: Zondag \nStartdatum: 19 april 2026 \nLessen op 19/4\, 26/4\, 3/5\, 10/5 \nTijd: 10:00 – 11:00 u
URL:https://trainingsschoolaw.nl/training/samen-in-balans-deel-1-jonge-honden-module-19/
LOCATION:Trainingsschool AW Ridderkerk\, Kastanjelaan\, Ridderkerk\, 2982CM\, Netherlands
CATEGORIES:Jonge honden module,Samen in Balans deel 1
ORGANIZER;CN="Trainingsschool AW Ridderkerk":MAILTO:ridderkerk@trainingsschoolaw.nl
END:VEVENT
BEGIN:VEVENT
DTSTART;VALUE=DATE:20260419
DTEND;VALUE=DATE:20260511
DTSTAMP:20260421T095840
CREATED:20260324T163822Z
LAST-MODIFIED:20260324T163822Z
UID:7901-1776556800-1778457599@trainingsschoolaw.nl
SUMMARY:Jonge Honden Module
DESCRIPTION:Op de zondag 19 april t/m 10 mei\nTijd: 13:00 uur – 14:00 uur
URL:https://trainingsschoolaw.nl/training/jonge-honden-module-94/
LOCATION:Trainingsschool AW Amersfoort\, Zuiderinslag\, Hoevelaken\, Gelderland\, 3871 MR\, Netherlands
CATEGORIES:Jonge honden module
ORGANIZER;CN="Trainingsschool AW Amersfoort":MAILTO:amersfoort@trainingsschoolaw.nl
END:VEVENT
BEGIN:VEVENT
DTSTART;VALUE=DATE:20260424
DTEND;VALUE=DATE:20260516
DTSTAMP:20260421T095840
CREATED:20260122T222303Z
LAST-MODIFIED:20260122T222303Z
UID:7058-1776988800-1778889599@trainingsschoolaw.nl
SUMMARY:Jonge Honden
DESCRIPTION:Op vrijdag\, tijd 10:30 – 11:30
URL:https://trainingsschoolaw.nl/training/jonge-honden-9/
LOCATION:Trainingsschool AW Utrecht\, Gageldijk 3\, Utrecht\, 3566 ME\, Netherlands
CATEGORIES:Jonge honden module
ORGANIZER;CN="Trainingsschool AW Utrecht":MAILTO:utrecht@trainingsschoolaw.nl
END:VEVENT
BEGIN:VEVENT
DTSTART;VALUE=DATE:20260501
DTEND;VALUE=DATE:20260530
DTSTAMP:20260421T095840
CREATED:20251113T205503Z
LAST-MODIFIED:20251113T205503Z
UID:6143-1777593600-1780099199@trainingsschoolaw.nl
SUMMARY:Samen in balans / Jonge honden
DESCRIPTION:Vrijdag 19:30 – 20:30 \nLET OP: Geen lessen in Hemelvaarts-weekend
URL:https://trainingsschoolaw.nl/training/samen-in-balans-jonge-honden-4/
LOCATION:Trainingsschool AW Den Bosch\, Meanderplein\, Sint-Michielsgestel\, 5271 GC\, Netherlands
CATEGORIES:Jonge honden module
ORGANIZER;CN="Trainingsschool AW Den Bosch":MAILTO:denbosch@trainingsschoolaw.nl
END:VEVENT
BEGIN:VEVENT
DTSTART;VALUE=DATE:20260504
DTEND;VALUE=DATE:20260527
DTSTAMP:20260421T095840
CREATED:20260221T133637Z
LAST-MODIFIED:20260223T191156Z
UID:7646-1777852800-1779839999@trainingsschoolaw.nl
SUMMARY:Samen in balans deel 1 / Jonge Honden module (Extra module)
DESCRIPTION:Start: maandag 4 mei 2026\nTijd: 20:00 uur\nLessen: 4/5 (eenmalig 20:15u)\, 11/5\, 18/5\, dinsdag 26/5
URL:https://trainingsschoolaw.nl/training/samen-in-balans-deel-1-jonge-honden-module-extra-module/
LOCATION:Trainingsschool Capelle a/d IJssel\, Parkeerplaats Bermweg\, Capelle a/d IJssel\, 2907 LD\, Netherlands
CATEGORIES:Jonge honden module,Samen in Balans deel 1
ORGANIZER;CN="Trainingsschool AW Capelle a/d IJssel":MAILTO:capelle@trainingsschoolaw.nl
END:VEVENT
BEGIN:VEVENT
DTSTART;VALUE=DATE:20260506
DTEND;VALUE=DATE:20260507
DTSTAMP:20260421T095840
CREATED:20250603T155035Z
LAST-MODIFIED:20260203T205149Z
UID:4370-1778025600-1778111999@trainingsschoolaw.nl
SUMMARY:Jonge honden module
DESCRIPTION:Op woensdag van 10.30 tot 11.30 uur
URL:https://trainingsschoolaw.nl/training/jonge-honden-module-31/
LOCATION:Trainingsschool AW Zwolle\, Botterweg 12E\, Zwolle\, 8042 PA\, Netherlands
CATEGORIES:Jonge honden module
ORGANIZER;CN="Trainingsschool AW Zwolle":MAILTO:zwolle@trainingsschoolaw.nl
END:VEVENT
BEGIN:VEVENT
DTSTART;VALUE=DATE:20260506
DTEND;VALUE=DATE:20260507
DTSTAMP:20260421T095840
CREATED:20250603T155234Z
LAST-MODIFIED:20260203T205512Z
UID:4378-1778025600-1778111999@trainingsschoolaw.nl
SUMMARY:Jonge honden module
DESCRIPTION:Op woensdag van 20.15 tot 21.15 uur
URL:https://trainingsschoolaw.nl/training/jonge-honden-module-32/
LOCATION:Trainingsschool AW Zwolle\, Botterweg 12E\, Zwolle\, 8042 PA\, Netherlands
CATEGORIES:Jonge honden module
ORGANIZER;CN="Trainingsschool AW Zwolle":MAILTO:zwolle@trainingsschoolaw.nl
END:VEVENT
BEGIN:VEVENT
DTSTART;VALUE=DATE:20260507
DTEND;VALUE=DATE:20260529
DTSTAMP:20260421T095840
CREATED:20260326T145846Z
LAST-MODIFIED:20260326T145846Z
UID:7954-1778112000-1780012799@trainingsschoolaw.nl
SUMMARY:Samen in Balans 1 / Jonge Honden module
DESCRIPTION:Donderdag van 11.45 – 12.45 uur
URL:https://trainingsschoolaw.nl/training/samen-in-balans-1-jonge-honden-module-10/
LOCATION:Trainingsschool AW Tilburg\, Leijpark\, Tilburg\, 5022AX\, Netherlands
CATEGORIES:Jonge honden module,Samen in Balans deel 1
ORGANIZER;CN="Trainingsschool AW Tilburg":MAILTO:tilburg@trainingsschoolaw.nl
END:VEVENT
BEGIN:VEVENT
DTSTART;VALUE=DATE:20260507
DTEND;VALUE=DATE:20260529
DTSTAMP:20260421T095840
CREATED:20260415T090529Z
LAST-MODIFIED:20260415T090529Z
UID:8045-1778112000-1780012799@trainingsschoolaw.nl
SUMMARY:Jonge Honden Module / Samen in Balans 1
DESCRIPTION:Donderdag van 19.00-20.00 uur
URL:https://trainingsschoolaw.nl/training/jonge-honden-module-samen-in-balans-1/
LOCATION:Trainingsschool AW Tilburg\, Leijpark\, Tilburg\, 5022AX\, Netherlands
CATEGORIES:Jonge honden module,Samen in Balans deel 1
ORGANIZER;CN="Trainingsschool AW Tilburg":MAILTO:tilburg@trainingsschoolaw.nl
END:VEVENT
BEGIN:VEVENT
DTSTART;VALUE=DATE:20260508
DTEND;VALUE=DATE:20260530
DTSTAMP:20260421T095840
CREATED:20260310T100133Z
LAST-MODIFIED:20260310T100452Z
UID:7822-1778198400-1780099199@trainingsschoolaw.nl
SUMMARY:Jonge Honden Module
DESCRIPTION:Op de vrijdag van 8 mei t/m 29 mei\nTijd: 10:45 uur – 11:45 uur
URL:https://trainingsschoolaw.nl/training/jonge-honden-module-93/
LOCATION:Trainingsschool AW Amersfoort\, Zuiderinslag\, Hoevelaken\, Gelderland\, 3871 MR\, Netherlands
CATEGORIES:Jonge honden module
ORGANIZER;CN="Trainingsschool AW Amersfoort":MAILTO:amersfoort@trainingsschoolaw.nl
END:VEVENT
BEGIN:VEVENT
DTSTART;VALUE=DATE:20260508
DTEND;VALUE=DATE:20260530
DTSTAMP:20260421T095840
CREATED:20260221T133831Z
LAST-MODIFIED:20260223T191220Z
UID:7650-1778198400-1780099199@trainingsschoolaw.nl
SUMMARY:Samen in balans deel 1 / Jonge Honden module
DESCRIPTION:Start: vrijdag 8 mei 2026\nTijd: 12:00 uur\nLessen: 8/5\, 15/5\, 22/5\, 29/5
URL:https://trainingsschoolaw.nl/training/samen-in-balans-deel-1-jonge-honden-module-44/
LOCATION:Trainingsschool Capelle a/d IJssel\, Parkeerplaats Bermweg\, Capelle a/d IJssel\, 2907 LD\, Netherlands
CATEGORIES:Jonge honden module,Samen in Balans deel 1
ORGANIZER;CN="Trainingsschool AW Capelle a/d IJssel":MAILTO:capelle@trainingsschoolaw.nl
END:VEVENT
BEGIN:VEVENT
DTSTART;VALUE=DATE:20260508
DTEND;VALUE=DATE:20260530
DTSTAMP:20260421T095840
CREATED:20260401T142810Z
LAST-MODIFIED:20260417T134723Z
UID:7972-1778198400-1780099199@trainingsschoolaw.nl
SUMMARY:Jonge honden module
DESCRIPTION:Op vrijdag van 9:30 tot 10:30 uur ( nog 2 plekjes)
URL:https://trainingsschoolaw.nl/training/jonge-honden-module-99/
LOCATION:Trainingsschool AW Zoetermeer\, Parkeerplaats Amerikaweg\, Zoetermeer\, Netherlands
CATEGORIES:Jonge honden module
ORGANIZER;CN="Trainingsschool AW Zoetermeer":MAILTO:zoetermeer@trainingsschoolaw.nl
END:VEVENT
BEGIN:VEVENT
DTSTART;VALUE=DATE:20260509
DTEND;VALUE=DATE:20260531
DTSTAMP:20260421T095840
CREATED:20260325T154855Z
LAST-MODIFIED:20260325T154855Z
UID:7911-1778284800-1780185599@trainingsschoolaw.nl
SUMMARY:Jonge Honden Module
DESCRIPTION:Dag: Zaterdag \nStartdatum: 9 mei 2026 \nTijd: 15.00 – 16.00 uur
URL:https://trainingsschoolaw.nl/training/jonge-honden-module-95/
LOCATION:Trainingsschool AW Veldhoven\, Berg 120\, Veldhoven\, 5508AZ\, Netherlands
CATEGORIES:Jonge honden module
ORGANIZER;CN="Trainingsschool AW Veldhoven":MAILTO:veldhoven@trainingsschoolaw.nl
END:VEVENT
BEGIN:VEVENT
DTSTART;VALUE=DATE:20260511
DTEND;VALUE=DATE:20260602
DTSTAMP:20260421T095840
CREATED:20260309T154651Z
LAST-MODIFIED:20260309T154651Z
UID:7796-1778457600-1780358399@trainingsschoolaw.nl
SUMMARY:Samen in balans deel 1/ Jonge honden module
DESCRIPTION:De theorieles volgt uiterlijk een week voor de startdatum per email. \nPraktijklessen maandag avond 20:00-21:00 uur
URL:https://trainingsschoolaw.nl/training/samen-in-balans-deel-1-jonge-honden-module-28/
LOCATION:Trainingsschool Hoorn\, Jan Doustraat\, grote parkeerplaats\, Zwaag\, 1689XK\, Netherlands
CATEGORIES:Jonge honden module,Samen in Balans deel 1
ORGANIZER;CN="Trainingsschool AW Enkhuizen":MAILTO:enkhuizen@trainingsschoolaw.nl
END:VEVENT
BEGIN:VEVENT
DTSTART;VALUE=DATE:20260511
DTEND;VALUE=DATE:20260602
DTSTAMP:20260421T095840
CREATED:20260325T155059Z
LAST-MODIFIED:20260325T155059Z
UID:7921-1778457600-1780358399@trainingsschoolaw.nl
SUMMARY:Jonge Honden Module
DESCRIPTION:Dag: Maandag \nStartdatum: 11 mei 2026 \nTijd: 19.15 – 20.15 uur
URL:https://trainingsschoolaw.nl/training/jonge-honden-module-96/
LOCATION:Trainingsschool AW Veldhoven\, Berg 120\, Veldhoven\, 5508AZ\, Netherlands
CATEGORIES:Jonge honden module
ORGANIZER;CN="Trainingsschool AW Veldhoven":MAILTO:veldhoven@trainingsschoolaw.nl
END:VEVENT
BEGIN:VEVENT
DTSTART;VALUE=DATE:20260512
DTEND;VALUE=DATE:20260513
DTSTAMP:20260421T095840
CREATED:20251027T112757Z
LAST-MODIFIED:20251027T112757Z
UID:5839-1778544000-1778630399@trainingsschoolaw.nl
SUMMARY:Samen in Balans deel 1 / Jonge Honden Module
DESCRIPTION:Op dinsdag van 19.00 – 20.00 uur \nStartdatum: 12 mei
URL:https://trainingsschoolaw.nl/training/samen-in-balans-deel-1-jonge-honden-module-37/
LOCATION:Trainingsschool AW Heemskerk\, De Velst\, Heemskerk\, Netherlands
CATEGORIES:Jonge honden module,Samen in Balans deel 1
ORGANIZER;CN="Trainingsschool AW Heemskerk":MAILTO:heemskerk@trainingsschoolaw.nl
END:VEVENT
BEGIN:VEVENT
DTSTART;VALUE=DATE:20260512
DTEND;VALUE=DATE:20260603
DTSTAMP:20260421T095840
CREATED:20250427T100353Z
LAST-MODIFIED:20260324T153510Z
UID:3968-1778544000-1780444799@trainingsschoolaw.nl
SUMMARY:Samen in balans deel 1 / Jonge Honden module
DESCRIPTION:Start: dinsdag 12 mei 2026 \nTijd: 19:45 u \nLessen: 12/5\, 19/5\, 26/5\, do 4/6
URL:https://trainingsschoolaw.nl/training/samen-in-balans-deel-1-jonge-honden-module-17/
LOCATION:Trainingsschool AW Ridderkerk\, Kastanjelaan\, Ridderkerk\, 2982CM\, Netherlands
CATEGORIES:Jonge honden module,Samen in Balans deel 1
ORGANIZER;CN="Trainingsschool AW Ridderkerk":MAILTO:ridderkerk@trainingsschoolaw.nl
END:VEVENT
BEGIN:VEVENT
DTSTART;VALUE=DATE:20260512
DTEND;VALUE=DATE:20260603
DTSTAMP:20260421T095840
CREATED:20260206T142013Z
LAST-MODIFIED:20260206T142013Z
UID:7403-1778544000-1780444799@trainingsschoolaw.nl
SUMMARY:Jonge honden module
DESCRIPTION:Op dinsdag van 19:00 tot 20:00 uur
URL:https://trainingsschoolaw.nl/training/jonge-honden-module-86/
LOCATION:Trainingsschool AW Zoetermeer\, Parkeerplaats Amerikaweg\, Zoetermeer\, Netherlands
CATEGORIES:Jonge honden module
ORGANIZER;CN="Trainingsschool AW Zoetermeer":MAILTO:zoetermeer@trainingsschoolaw.nl
END:VEVENT
BEGIN:VEVENT
DTSTART;VALUE=DATE:20260512
DTEND;VALUE=DATE:20260603
DTSTAMP:20260421T095840
CREATED:20260314T154359Z
LAST-MODIFIED:20260314T154359Z
UID:7845-1778544000-1780444799@trainingsschoolaw.nl
SUMMARY:Samen in balans deel 1/ Jonge honden module
DESCRIPTION:De theorieles volgt uiterlijk een week voor de startdatum per email. \nPraktijklessen dinsdag avond 18:30 – 19:30 uur
URL:https://trainingsschoolaw.nl/training/samen-in-balans-deel-1-jonge-honden-module-11/
LOCATION:Trainingsschool AW Enkhuizen\, Gerard Brandtweg 3\, Enkhuizen\, 1602 LV\, Netherlands
CATEGORIES:Jonge honden module,Samen in Balans deel 1
ORGANIZER;CN="Trainingsschool AW Enkhuizen":MAILTO:enkhuizen@trainingsschoolaw.nl
END:VEVENT
BEGIN:VEVENT
DTSTART;VALUE=DATE:20260516
DTEND;VALUE=DATE:20260517
DTSTAMP:20260421T095840
CREATED:20251027T112936Z
LAST-MODIFIED:20251027T112936Z
UID:5844-1778889600-1778975999@trainingsschoolaw.nl
SUMMARY:Samen in Balans deel 1 / Jonge Honden Module
DESCRIPTION:Op zaterdag van 10.30 – 11.30 uur \nStartdatum: 16 mei
URL:https://trainingsschoolaw.nl/training/samen-in-balans-deel-1-jonge-honden-module-38/
LOCATION:Trainingsschool AW Heemskerk\, De Velst\, Heemskerk\, Netherlands
CATEGORIES:Jonge honden module,Samen in balans deel 2
ORGANIZER;CN="Trainingsschool AW Heemskerk":MAILTO:heemskerk@trainingsschoolaw.nl
END:VEVENT
BEGIN:VEVENT
DTSTART;VALUE=DATE:20260517
DTEND;VALUE=DATE:20260615
DTSTAMP:20260421T095840
CREATED:20260221T134019Z
LAST-MODIFIED:20260223T191311Z
UID:7654-1778976000-1781481599@trainingsschoolaw.nl
SUMMARY:Samen in balans deel 1 / Jonge Honden module (Extra module)
DESCRIPTION:Start: zondag 17 mei 2026\nTijd: 11:00 uur\nLessen: 17/5\, 31/5\, 7/6\, 14/6
URL:https://trainingsschoolaw.nl/training/samen-in-balans-deel-1-jonge-honden-module-extra-module-2/
LOCATION:Trainingsschool Capelle a/d IJssel\, Parkeerplaats Bermweg\, Capelle a/d IJssel\, 2907 LD\, Netherlands
CATEGORIES:Jonge honden module,Samen in Balans deel 1
ORGANIZER;CN="Trainingsschool AW Capelle a/d IJssel":MAILTO:capelle@trainingsschoolaw.nl
END:VEVENT
BEGIN:VEVENT
DTSTART;VALUE=DATE:20260517
DTEND;VALUE=DATE:20260615
DTSTAMP:20260421T095840
CREATED:20260317T085803Z
LAST-MODIFIED:20260317T085803Z
UID:7864-1778976000-1781481599@trainingsschoolaw.nl
SUMMARY:Samen in balans deel 1 / Jonge Honden module
DESCRIPTION:Start: zondag 17 mei 2026\nTijd: 10:00 uur\nLessen: 17/5\, 31/5\, 7/6\, 14/6
URL:https://trainingsschoolaw.nl/training/samen-in-balans-deel-1-jonge-honden-module-14/
LOCATION:Trainingsschool Capelle a/d IJssel\, Parkeerplaats Bermweg\, Capelle a/d IJssel\, 2907 LD\, Netherlands
CATEGORIES:Jonge honden module,Samen in Balans deel 1
ORGANIZER;CN="Trainingsschool AW Capelle a/d IJssel":MAILTO:capelle@trainingsschoolaw.nl
END:VEVENT
BEGIN:VEVENT
DTSTART;VALUE=DATE:20260518
DTEND;VALUE=DATE:20260519
DTSTAMP:20260421T095840
CREATED:20251128T103136Z
LAST-MODIFIED:20260212T152446Z
UID:6516-1779062400-1779148799@trainingsschoolaw.nl
SUMMARY:Jonge honden module
DESCRIPTION:op maandag van 20:00 – 21:00 uur
URL:https://trainingsschoolaw.nl/training/jonge-honden-module-78/
LOCATION:Trainingsschool AW Apeldoorn\, De Voorwaarts 55\, Apeldoorn\, 7321MA\, Netherlands
CATEGORIES:Jonge honden module
ORGANIZER;CN="Trainingsschool AW Apeldoorn":MAILTO:apeldoorn@trainingsschoolaw.nl
END:VEVENT
BEGIN:VEVENT
DTSTART;VALUE=DATE:20260520
DTEND;VALUE=DATE:20260611
DTSTAMP:20260421T095840
CREATED:20260304T201351Z
LAST-MODIFIED:20260304T201351Z
UID:7753-1779235200-1781135999@trainingsschoolaw.nl
SUMMARY:Jonge Honden
DESCRIPTION:Op woensdag 11:00 – 12:00
URL:https://trainingsschoolaw.nl/training/jonge-honden-14/
LOCATION:Trainingsschool AW Utrecht\, Gageldijk 3\, Utrecht\, 3566 ME\, Netherlands
CATEGORIES:Jonge honden module
ORGANIZER;CN="Trainingsschool AW Utrecht":MAILTO:utrecht@trainingsschoolaw.nl
END:VEVENT
BEGIN:VEVENT
DTSTART;VALUE=DATE:20260522
DTEND;VALUE=DATE:20260523
DTSTAMP:20260421T095840
CREATED:20251128T103718Z
LAST-MODIFIED:20251128T103718Z
UID:6536-1779408000-1779494399@trainingsschoolaw.nl
SUMMARY:Jonge honden module
DESCRIPTION:op vrijdag van 10:30 – 11:30 uur
URL:https://trainingsschoolaw.nl/training/jonge-honden-module-79/
LOCATION:Trainingsschool AW Apeldoorn\, De Voorwaarts 55\, Apeldoorn\, 7321MA\, Netherlands
CATEGORIES:Jonge honden module
ORGANIZER;CN="Trainingsschool AW Apeldoorn":MAILTO:apeldoorn@trainingsschoolaw.nl
END:VEVENT
BEGIN:VEVENT
DTSTART;VALUE=DATE:20260522
DTEND;VALUE=DATE:20260620
DTSTAMP:20260421T095840
CREATED:20260122T223153Z
LAST-MODIFIED:20260122T223153Z
UID:7088-1779408000-1781913599@trainingsschoolaw.nl
SUMMARY:Jonge Honden
DESCRIPTION:Op vrijdag\, tijd 10:30 – 11:30
URL:https://trainingsschoolaw.nl/training/jonge-honden-13/
LOCATION:Trainingsschool AW Utrecht\, Gageldijk 3\, Utrecht\, 3566 ME\, Netherlands
CATEGORIES:Jonge honden module
ORGANIZER;CN="Trainingsschool AW Utrecht":MAILTO:utrecht@trainingsschoolaw.nl
END:VEVENT
END:VCALENDAR