BEGIN:VCALENDAR
VERSION:2.0
PRODID:-//Trainingsschool AW - ECPv6.15.20//NONSGML v1.0//EN
CALSCALE:GREGORIAN
METHOD:PUBLISH
X-WR-CALNAME:Trainingsschool AW
X-ORIGINAL-URL:https://trainingsschoolaw.nl
X-WR-CALDESC:Evenementen voor Trainingsschool AW
REFRESH-INTERVAL;VALUE=DURATION:PT1H
X-Robots-Tag:noindex
X-PUBLISHED-TTL:PT1H
BEGIN:VTIMEZONE
TZID:UTC
BEGIN:STANDARD
TZOFFSETFROM:+0000
TZOFFSETTO:+0000
TZNAME:UTC
DTSTART:20250101T000000
END:STANDARD
END:VTIMEZONE
BEGIN:VEVENT
DTSTART;VALUE=DATE:20260324
DTEND;VALUE=DATE:20260415
DTSTAMP:20260421T125229
CREATED:20251107T170209Z
LAST-MODIFIED:20260317T130332Z
UID:6049-1774310400-1776211199@trainingsschoolaw.nl
SUMMARY:Jonge honden module
DESCRIPTION:Op dinsdag van 19:00 tot 20:00 uur\nVOL
URL:https://trainingsschoolaw.nl/training/jonge-honden-module-67/
LOCATION:Trainingsschool AW Zoetermeer\, Parkeerplaats Amerikaweg\, Zoetermeer\, Netherlands
CATEGORIES:Jonge honden module
ORGANIZER;CN="Trainingsschool AW Zoetermeer":MAILTO:zoetermeer@trainingsschoolaw.nl
END:VEVENT
BEGIN:VEVENT
DTSTART;VALUE=DATE:20260323
DTEND;VALUE=DATE:20260421
DTSTAMP:20260421T125229
CREATED:20260107T100837Z
LAST-MODIFIED:20260323T112922Z
UID:6941-1774224000-1776729599@trainingsschoolaw.nl
SUMMARY:VOL Samen in balans deel 1 en Jonge Honden Module
DESCRIPTION:Maandagavond van 18:30 tot 19:30 uur \nHonden vanaf 6 maanden oud
URL:https://trainingsschoolaw.nl/training/samen-in-balans-deel-1-en-jonge-honden-module-5/
LOCATION:Trainingsschool Heteren\, Polderstraat 34\, Heteren\, Gelderland\, 6666 LD\, Netherlands
CATEGORIES:Jonge honden module,Samen in Balans deel 1
ORGANIZER;CN="Trainingsschool AW Heteren":MAILTO:heteren@trainingsschoolaw.nl
END:VEVENT
BEGIN:VEVENT
DTSTART;VALUE=DATE:20260323
DTEND;VALUE=DATE:20260414
DTSTAMP:20260421T125229
CREATED:20260211T170017Z
LAST-MODIFIED:20260211T170017Z
UID:7515-1774224000-1776124799@trainingsschoolaw.nl
SUMMARY:Jonge Honden Module
DESCRIPTION:Dag: Maandag \nStartdatum: 23 maart 2026 \nTijd: 19.15 – 20.15 uur
URL:https://trainingsschoolaw.nl/training/jonge-honden-module-90/
LOCATION:Trainingsschool AW Veldhoven\, Berg 120\, Veldhoven\, 5508AZ\, Netherlands
CATEGORIES:Jonge honden module
ORGANIZER;CN="Trainingsschool AW Veldhoven":MAILTO:veldhoven@trainingsschoolaw.nl
END:VEVENT
BEGIN:VEVENT
DTSTART;VALUE=DATE:20260323
DTEND;VALUE=DATE:20260324
DTSTAMP:20260421T125229
CREATED:20251128T100010Z
LAST-MODIFIED:20260212T151356Z
UID:6476-1774224000-1774310399@trainingsschoolaw.nl
SUMMARY:Jonge honden module
DESCRIPTION:op maandag van 20:00 – 21:00 uur
URL:https://trainingsschoolaw.nl/training/jonge-honden-module-76/
LOCATION:Trainingsschool AW Apeldoorn\, De Voorwaarts 55\, Apeldoorn\, 7321MA\, Netherlands
CATEGORIES:Jonge honden module
ORGANIZER;CN="Trainingsschool AW Apeldoorn":MAILTO:apeldoorn@trainingsschoolaw.nl
END:VEVENT
BEGIN:VEVENT
DTSTART;VALUE=DATE:20260322
DTEND;VALUE=DATE:20260413
DTSTAMP:20260421T125229
CREATED:20260309T144151Z
LAST-MODIFIED:20260310T085332Z
UID:7790-1774137600-1776038399@trainingsschoolaw.nl
SUMMARY:Jonge Honden Module
DESCRIPTION:Op de zondag 22 maart t/m 12 april\nTijd: 13:00 uur – 14:00 uur
URL:https://trainingsschoolaw.nl/training/jonge-honden-module-92/
LOCATION:Trainingsschool AW Amersfoort\, Zuiderinslag\, Hoevelaken\, Gelderland\, 3871 MR\, Netherlands
CATEGORIES:Jonge honden module
ORGANIZER;CN="Trainingsschool AW Amersfoort":MAILTO:amersfoort@trainingsschoolaw.nl
END:VEVENT
BEGIN:VEVENT
DTSTART;VALUE=DATE:20260321
DTEND;VALUE=DATE:20260412
DTSTAMP:20260421T125229
CREATED:20260122T222442Z
LAST-MODIFIED:20260122T222442Z
UID:7062-1774051200-1775951999@trainingsschoolaw.nl
SUMMARY:Jonge Honden
DESCRIPTION:Op zaterdag\, tijd 10:00 – 11:00
URL:https://trainingsschoolaw.nl/training/jonge-honden-11/
LOCATION:Trainingsschool AW Utrecht\, Gageldijk 3\, Utrecht\, 3566 ME\, Netherlands
CATEGORIES:Jonge honden module
ORGANIZER;CN="Trainingsschool AW Utrecht":MAILTO:utrecht@trainingsschoolaw.nl
END:VEVENT
BEGIN:VEVENT
DTSTART;VALUE=DATE:20260321
DTEND;VALUE=DATE:20260412
DTSTAMP:20260421T125229
CREATED:20251113T211539Z
LAST-MODIFIED:20260207T181655Z
UID:6187-1774051200-1775951999@trainingsschoolaw.nl
SUMMARY:Samen in balans / Jonge honden
DESCRIPTION:Zaterdag 10:15 -11:15 \nLET OP: Geen les in carnavalsvakantie
URL:https://trainingsschoolaw.nl/training/samen-in-balans-jonge-honden-11/
LOCATION:Trainingsschool AW Den Bosch\, Meanderplein\, Sint-Michielsgestel\, 5271 GC\, Netherlands
CATEGORIES:Jonge honden module
ORGANIZER;CN="Trainingsschool AW Den Bosch":MAILTO:denbosch@trainingsschoolaw.nl
END:VEVENT
BEGIN:VEVENT
DTSTART;VALUE=DATE:20260320
DTEND;VALUE=DATE:20260418
DTSTAMP:20260421T125229
CREATED:20260206T141316Z
LAST-MODIFIED:20260314T171713Z
UID:7387-1773964800-1776470399@trainingsschoolaw.nl
SUMMARY:Jonge honden module
DESCRIPTION:Op vrijdag van 9:15 tot 10:15 uur ( met uitzondering van 3 april)\nVOL
URL:https://trainingsschoolaw.nl/training/jonge-honden-module-69/
LOCATION:Trainingsschool AW Zoetermeer\, Parkeerplaats Amerikaweg\, Zoetermeer\, Netherlands
CATEGORIES:Jonge honden module
ORGANIZER;CN="Trainingsschool AW Zoetermeer":MAILTO:zoetermeer@trainingsschoolaw.nl
END:VEVENT
BEGIN:VEVENT
DTSTART;VALUE=DATE:20260319
DTEND;VALUE=DATE:20260410
DTSTAMP:20260421T125229
CREATED:20260226T134554Z
LAST-MODIFIED:20260226T134554Z
UID:7727-1773878400-1775779199@trainingsschoolaw.nl
SUMMARY:Samen in Balans 1 / Jonge Honden Module
DESCRIPTION:Donderdag van 19.00 -20.00 uur
URL:https://trainingsschoolaw.nl/training/samen-in-balans-1-jonge-honden-module-5/
LOCATION:Trainingsschool AW Tilburg\, Leijpark\, Tilburg\, 5022AX\, Netherlands
CATEGORIES:Jonge honden module,Samen in Balans deel 1
ORGANIZER;CN="Trainingsschool AW Tilburg":MAILTO:tilburg@trainingsschoolaw.nl
END:VEVENT
BEGIN:VEVENT
DTSTART;VALUE=DATE:20260314
DTEND;VALUE=DATE:20260405
DTSTAMP:20260421T125229
CREATED:20260221T151152Z
LAST-MODIFIED:20260221T151152Z
UID:7687-1773446400-1775347199@trainingsschoolaw.nl
SUMMARY:Samen in Balans 1 / Jonge Honden Module
DESCRIPTION:Zaterdag van 9.30 – 10.30 uur
URL:https://trainingsschoolaw.nl/training/samen-in-balans-1-jonge-honden-module-4/
LOCATION:Trainingsschool AW Tilburg\, Leijpark\, Tilburg\, 5022AX\, Netherlands
CATEGORIES:Jonge honden module,Samen in Balans deel 1
ORGANIZER;CN="Trainingsschool AW Tilburg":MAILTO:tilburg@trainingsschoolaw.nl
END:VEVENT
BEGIN:VEVENT
DTSTART;VALUE=DATE:20260313
DTEND;VALUE=DATE:20260404
DTSTAMP:20260421T125229
CREATED:20260126T140432Z
LAST-MODIFIED:20260126T142919Z
UID:7125-1773360000-1775260799@trainingsschoolaw.nl
SUMMARY:Jonge Honden Module
DESCRIPTION:Op de vrijdag van 13 maart t/m 3 april\nTijd: 12:00 uur – 13:00 uur
URL:https://trainingsschoolaw.nl/training/jonge-honden-module-84/
LOCATION:Trainingsschool AW Amersfoort\, Zuiderinslag\, Hoevelaken\, Gelderland\, 3871 MR\, Netherlands
CATEGORIES:Jonge honden module
ORGANIZER;CN="Trainingsschool AW Amersfoort":MAILTO:amersfoort@trainingsschoolaw.nl
END:VEVENT
BEGIN:VEVENT
DTSTART;VALUE=DATE:20260307
DTEND;VALUE=DATE:20260308
DTSTAMP:20260421T125229
CREATED:20251027T112058Z
LAST-MODIFIED:20251027T112058Z
UID:5819-1772841600-1772927999@trainingsschoolaw.nl
SUMMARY:Samen in Balans deel 1 / Jonge Honden Module
DESCRIPTION:Op zaterdag van 10.30 – 11.30 uur \nStartdatum: 7 maart
URL:https://trainingsschoolaw.nl/training/samen-in-balans-deel-1-jonge-honden-module-33/
LOCATION:Trainingsschool AW Heemskerk\, De Velst\, Heemskerk\, Netherlands
CATEGORIES:Jonge honden module,Samen in Balans deel 1
ORGANIZER;CN="Trainingsschool AW Heemskerk":MAILTO:heemskerk@trainingsschoolaw.nl
END:VEVENT
BEGIN:VEVENT
DTSTART;VALUE=DATE:20260306
DTEND;VALUE=DATE:20260307
DTSTAMP:20260421T125229
CREATED:20251128T092824Z
LAST-MODIFIED:20260305T105131Z
UID:6448-1772755200-1772841599@trainingsschoolaw.nl
SUMMARY:Jonge honden module (VOL)
DESCRIPTION:op vrijdag van 10:30 – 11:30 uur
URL:https://trainingsschoolaw.nl/training/jonge-honden-module-75/
LOCATION:Trainingsschool AW Apeldoorn\, De Voorwaarts 55\, Apeldoorn\, 7321MA\, Netherlands
CATEGORIES:Jonge honden module
ORGANIZER;CN="Trainingsschool AW Apeldoorn":MAILTO:apeldoorn@trainingsschoolaw.nl
END:VEVENT
BEGIN:VEVENT
DTSTART;VALUE=DATE:20260304
DTEND;VALUE=DATE:20260305
DTSTAMP:20260421T125229
CREATED:20251027T112241Z
LAST-MODIFIED:20251027T112241Z
UID:5824-1772582400-1772668799@trainingsschoolaw.nl
SUMMARY:Samen in Balans deel 1 / Jonge Honden Module
DESCRIPTION:Op woensdag van 10.30 – 11.30 uur \nStartdatum: 4 maart
URL:https://trainingsschoolaw.nl/training/samen-in-balans-deel-1-jonge-honden-module-34/
LOCATION:Trainingsschool AW Heemskerk\, De Velst\, Heemskerk\, Netherlands
CATEGORIES:Jonge honden module,Samen in Balans deel 1
ORGANIZER;CN="Trainingsschool AW Heemskerk":MAILTO:heemskerk@trainingsschoolaw.nl
END:VEVENT
BEGIN:VEVENT
DTSTART;VALUE=DATE:20260301
DTEND;VALUE=DATE:20260302
DTSTAMP:20260421T125229
CREATED:20250603T161258Z
LAST-MODIFIED:20260203T204052Z
UID:4399-1772323200-1772409599@trainingsschoolaw.nl
SUMMARY:Jonge honden module (VOL)
DESCRIPTION:Op zondag van 14.00 tot 15.00 uur
URL:https://trainingsschoolaw.nl/training/jonge-honden-module-34/
LOCATION:Trainingsschool AW Zwolle\, Botterweg 12E\, Zwolle\, 8042 PA\, Netherlands
CATEGORIES:Jonge honden module
ORGANIZER;CN="Trainingsschool AW Zwolle":MAILTO:zwolle@trainingsschoolaw.nl
END:VEVENT
BEGIN:VEVENT
DTSTART;VALUE=DATE:20260228
DTEND;VALUE=DATE:20260322
DTSTAMP:20260421T125229
CREATED:20251220T161646Z
LAST-MODIFIED:20260211T162757Z
UID:6820-1772236800-1774137599@trainingsschoolaw.nl
SUMMARY:Jonge Honden Module
DESCRIPTION:Dag: Zaterdag \nStartdatum: 28 februari 2026 \nTijd: 15.00 – 16.00 uur \nVOL
URL:https://trainingsschoolaw.nl/training/jonge-honden-module-82/
LOCATION:Trainingsschool AW Veldhoven\, Berg 120\, Veldhoven\, 5508AZ\, Netherlands
CATEGORIES:Jonge honden module
ORGANIZER;CN="Trainingsschool AW Veldhoven":MAILTO:veldhoven@trainingsschoolaw.nl
END:VEVENT
BEGIN:VEVENT
DTSTART;VALUE=DATE:20260227
DTEND;VALUE=DATE:20260321
DTSTAMP:20260421T125229
CREATED:20251113T205031Z
LAST-MODIFIED:20251113T212109Z
UID:6135-1772150400-1774051199@trainingsschoolaw.nl
SUMMARY:Samen in balans / Jonge honden
DESCRIPTION:Vrijdag 18:15 -19:15
URL:https://trainingsschoolaw.nl/training/samen-in-balans-jonge-honden-2/
LOCATION:Trainingsschool AW Den Bosch\, Meanderplein\, Sint-Michielsgestel\, 5271 GC\, Netherlands
CATEGORIES:Jonge honden module,Samen in Balans deel 1
ORGANIZER;CN="Trainingsschool AW Den Bosch":MAILTO:denbosch@trainingsschoolaw.nl
END:VEVENT
BEGIN:VEVENT
DTSTART;VALUE=DATE:20260226
DTEND;VALUE=DATE:20260320
DTSTAMP:20260421T125229
CREATED:20251220T152014Z
LAST-MODIFIED:20260107T103112Z
UID:6796-1772064000-1773964799@trainingsschoolaw.nl
SUMMARY:Samen in Balans 1 / Jonge Honden
DESCRIPTION:Donderdag 10.30 – 11.30 uur\n 
URL:https://trainingsschoolaw.nl/training/samen-in-balans-1-jonge-honden-4/
LOCATION:Trainingsschool AW Tilburg\, Leijpark\, Tilburg\, 5022AX\, Netherlands
CATEGORIES:Jonge honden module,Samen in Balans deel 1
ORGANIZER;CN="Trainingsschool AW Tilburg":MAILTO:tilburg@trainingsschoolaw.nl
END:VEVENT
BEGIN:VEVENT
DTSTART;VALUE=DATE:20260225
DTEND;VALUE=DATE:20260319
DTSTAMP:20260421T125229
CREATED:20250415T110717Z
LAST-MODIFIED:20251209T090452Z
UID:3886-1771977600-1773878399@trainingsschoolaw.nl
SUMMARY:Jonge Honden
DESCRIPTION:Woensdag  20.00 t/m 21.00 uur
URL:https://trainingsschoolaw.nl/training/jonge-honden-module-24/
LOCATION:Trainingsschool AW Noordwijk\, Sportpark Duinwetering\, Noordwijk\, 2203 HM\, Netherlands
CATEGORIES:Jonge honden module
ORGANIZER;CN="Trainingsschool AW Noordwijk":MAILTO:noordwijk@trainingsschoolaw.nl
END:VEVENT
BEGIN:VEVENT
DTSTART;VALUE=DATE:20260224
DTEND;VALUE=DATE:20260318
DTSTAMP:20260421T125229
CREATED:20251107T165244Z
LAST-MODIFIED:20251107T165244Z
UID:6037-1771891200-1773791999@trainingsschoolaw.nl
SUMMARY:Jonge honden module
DESCRIPTION:Op dinsdag van 9:00 tot 10:00 uur
URL:https://trainingsschoolaw.nl/training/jonge-honden-module-66/
LOCATION:Trainingsschool AW Zoetermeer\, Parkeerplaats Amerikaweg\, Zoetermeer\, Netherlands
CATEGORIES:Jonge honden module
ORGANIZER;CN="Trainingsschool AW Zoetermeer":MAILTO:zoetermeer@trainingsschoolaw.nl
END:VEVENT
BEGIN:VEVENT
DTSTART;VALUE=DATE:20260224
DTEND;VALUE=DATE:20260225
DTSTAMP:20260421T125229
CREATED:20251128T092512Z
LAST-MODIFIED:20260214T162523Z
UID:6436-1771891200-1771977599@trainingsschoolaw.nl
SUMMARY:Jonge honden module (nog 1 plek vrij)
DESCRIPTION:op dinsdag van 20:00 – 21:00 uur
URL:https://trainingsschoolaw.nl/training/jonge-honden-module-74/
LOCATION:Trainingsschool AW Apeldoorn\, De Voorwaarts 55\, Apeldoorn\, 7321MA\, Netherlands
CATEGORIES:Jonge honden module
ORGANIZER;CN="Trainingsschool AW Apeldoorn":MAILTO:apeldoorn@trainingsschoolaw.nl
END:VEVENT
BEGIN:VEVENT
DTSTART;VALUE=DATE:20260223
DTEND;VALUE=DATE:20260317
DTSTAMP:20260421T125229
CREATED:20260211T162553Z
LAST-MODIFIED:20260211T162553Z
UID:7484-1771804800-1773705599@trainingsschoolaw.nl
SUMMARY:Jonge Honden Module
DESCRIPTION:Dag: Maandag \nStartdatum: 23 februari 2026 \nTijd: 19.15 – 20.15 uur
URL:https://trainingsschoolaw.nl/training/jonge-honden-module-61/
LOCATION:Trainingsschool AW Veldhoven\, Berg 120\, Veldhoven\, 5508AZ\, Netherlands
CATEGORIES:Jonge honden module
ORGANIZER;CN="Trainingsschool AW Veldhoven":MAILTO:veldhoven@trainingsschoolaw.nl
END:VEVENT
BEGIN:VEVENT
DTSTART;VALUE=DATE:20260223
DTEND;VALUE=DATE:20260317
DTSTAMP:20260421T125229
CREATED:20251119T091726Z
LAST-MODIFIED:20260217T154651Z
UID:6281-1771804800-1773705599@trainingsschoolaw.nl
SUMMARY:VOL Samen in balans deel 1 en Jonge Honden Module
DESCRIPTION:Maandagavond van 18:30 uur tot 19:30 uur
URL:https://trainingsschoolaw.nl/training/samen-in-balans-deel-1-en-jonge-honden-module-3/
LOCATION:Trainingsschool Heteren\, Polderstraat 34\, Heteren\, Gelderland\, 6666 LD\, Netherlands
CATEGORIES:Jonge honden module,Samen in Balans deel 1
ORGANIZER;CN="Trainingsschool AW Heteren":MAILTO:heteren@trainingsschoolaw.nl
END:VEVENT
BEGIN:VEVENT
DTSTART;VALUE=DATE:20260221
DTEND;VALUE=DATE:20260308
DTSTAMP:20260421T125229
CREATED:20251113T211206Z
LAST-MODIFIED:20260119T184206Z
UID:6179-1771632000-1772927999@trainingsschoolaw.nl
SUMMARY:Samen in balans / Jonge honden
DESCRIPTION:Zaterdag 10:15 – 11:15
URL:https://trainingsschoolaw.nl/training/samen-in-balans-jonge-honden-9/
LOCATION:Trainingsschool AW Den Bosch\, Meanderplein\, Sint-Michielsgestel\, 5271 GC\, Netherlands
CATEGORIES:Jonge honden module
ORGANIZER;CN="Trainingsschool AW Den Bosch":MAILTO:denbosch@trainingsschoolaw.nl
END:VEVENT
BEGIN:VEVENT
DTSTART;VALUE=DATE:20260220
DTEND;VALUE=DATE:20260321
DTSTAMP:20260421T125229
CREATED:20251202T212019Z
LAST-MODIFIED:20251202T212019Z
UID:6640-1771545600-1774051199@trainingsschoolaw.nl
SUMMARY:Jonge Honden
DESCRIPTION:Op vrijdag\, tijd 10:30 – 11:30 uur
URL:https://trainingsschoolaw.nl/training/jonge-honden-10/
LOCATION:Trainingsschool AW Utrecht\, Gageldijk 3\, Utrecht\, 3566 ME\, Netherlands
CATEGORIES:Jonge honden module
ORGANIZER;CN="Trainingsschool AW Utrecht":MAILTO:utrecht@trainingsschoolaw.nl
END:VEVENT
BEGIN:VEVENT
DTSTART;VALUE=DATE:20260616
DTEND;VALUE=DATE:20260708
DTSTAMP:20260421T125229
CREATED:20260106T190227Z
LAST-MODIFIED:20260403T111620Z
UID:6916-1781568000-1783468799@trainingsschoolaw.nl
SUMMARY:Samen in balans deel 1 / Jonge Honden module
DESCRIPTION:Dag: dinsdag \nStartdatum: 16 juni 2026 (Lessen: 16/6\, 23/6\, 30/6\, 7/7) \nTijd: 19:00 uur – 20:00 uur
URL:https://trainingsschoolaw.nl/training/samen-in-balans-deel-1-jonge-honden-module-30/
LOCATION:Trainingsschool AW Ridderkerk\, Kastanjelaan\, Ridderkerk\, 2982CM\, Netherlands
CATEGORIES:Jonge honden module,Samen in Balans deel 1
ORGANIZER;CN="Trainingsschool AW Ridderkerk":MAILTO:ridderkerk@trainingsschoolaw.nl
END:VEVENT
BEGIN:VEVENT
DTSTART;VALUE=DATE:20260215
DTEND;VALUE=DATE:20260309
DTSTAMP:20260421T125229
CREATED:20251115T120905Z
LAST-MODIFIED:20260202T134903Z
UID:6253-1771113600-1773014399@trainingsschoolaw.nl
SUMMARY:Jonge Honden Module
DESCRIPTION:Op de zondag 15 februari t/m 08 maart\nTijd: 13:00 uur – 14:00 uur (nog 1 plaatsje open)
URL:https://trainingsschoolaw.nl/training/jonge-honden-module-70/
LOCATION:Trainingsschool AW Amersfoort\, Zuiderinslag\, Hoevelaken\, Gelderland\, 3871 MR\, Netherlands
CATEGORIES:Jonge honden module
ORGANIZER;CN="Trainingsschool AW Amersfoort":MAILTO:amersfoort@trainingsschoolaw.nl
END:VEVENT
BEGIN:VEVENT
DTSTART;VALUE=DATE:20260214
DTEND;VALUE=DATE:20260315
DTSTAMP:20260421T125229
CREATED:20251107T164807Z
LAST-MODIFIED:20260126T132331Z
UID:6025-1771027200-1773532799@trainingsschoolaw.nl
SUMMARY:Jonge honden module
DESCRIPTION:Op zaterdag van 10:15 tot 11:15 uur ( met uitzondering van 21 februari) VOL
URL:https://trainingsschoolaw.nl/training/jonge-honden-module-65/
LOCATION:Trainingsschool AW Zoetermeer\, Parkeerplaats Amerikaweg\, Zoetermeer\, Netherlands
CATEGORIES:Jonge honden module
ORGANIZER;CN="Trainingsschool AW Zoetermeer":MAILTO:zoetermeer@trainingsschoolaw.nl
END:VEVENT
BEGIN:VEVENT
DTSTART;VALUE=DATE:20260213
DTEND;VALUE=DATE:20260314
DTSTAMP:20260421T125229
CREATED:20251119T091911Z
LAST-MODIFIED:20260203T161228Z
UID:6285-1770940800-1773446399@trainingsschoolaw.nl
SUMMARY:VOL Samen in balans deel 1 en Jonge Honden Module
DESCRIPTION:Vrijdagavond van 18:30 uur tot 19:30 uur
URL:https://trainingsschoolaw.nl/training/samen-in-balans-deel-1-en-jonge-honden-module-4/
LOCATION:Trainingsschool Heteren\, Polderstraat 34\, Heteren\, Gelderland\, 6666 LD\, Netherlands
CATEGORIES:Jonge honden module,Samen in Balans deel 1
ORGANIZER;CN="Trainingsschool AW Heteren":MAILTO:heteren@trainingsschoolaw.nl
END:VEVENT
BEGIN:VEVENT
DTSTART;VALUE=DATE:20260212
DTEND;VALUE=DATE:20260313
DTSTAMP:20260421T125229
CREATED:20251220T152542Z
LAST-MODIFIED:20260131T174748Z
UID:6800-1770854400-1773359999@trainingsschoolaw.nl
SUMMARY:Samen in Balans 1 / Jonge Honden
DESCRIPTION:Donderdag 19.00 – 20.00 uur\n\nLet op: 19 februari vervalt ivm vakantie.\n\n 
URL:https://trainingsschoolaw.nl/training/samen-in-balans-1-jonge-honden-5/
LOCATION:Trainingsschool AW Tilburg\, Leijpark\, Tilburg\, 5022AX\, Netherlands
CATEGORIES:Jonge honden module,Samen in Balans deel 1
ORGANIZER;CN="Trainingsschool AW Tilburg":MAILTO:tilburg@trainingsschoolaw.nl
END:VEVENT
END:VCALENDAR