BEGIN:VCALENDAR
VERSION:2.0
PRODID:-//Trainingsschool AW - ECPv6.15.20//NONSGML v1.0//EN
CALSCALE:GREGORIAN
METHOD:PUBLISH
X-ORIGINAL-URL:https://trainingsschoolaw.nl
X-WR-CALDESC:Evenementen voor Trainingsschool AW
REFRESH-INTERVAL;VALUE=DURATION:PT1H
X-Robots-Tag:noindex
X-PUBLISHED-TTL:PT1H
BEGIN:VTIMEZONE
TZID:UTC
BEGIN:STANDARD
TZOFFSETFROM:+0000
TZOFFSETTO:+0000
TZNAME:UTC
DTSTART:20240101T000000
END:STANDARD
END:VTIMEZONE
BEGIN:VEVENT
DTSTART;VALUE=DATE:20260116
DTEND;VALUE=DATE:20260207
DTSTAMP:20260421T185034
CREATED:20251106T200444Z
LAST-MODIFIED:20251106T200506Z
UID:5967-1768521600-1770422399@trainingsschoolaw.nl
SUMMARY:Jonge Honden
DESCRIPTION:Op vrijdag\, tijd 10:30 – 11:30
URL:https://trainingsschoolaw.nl/training/jonge-honden-6/
LOCATION:Trainingsschool AW Utrecht\, Gageldijk 3\, Utrecht\, 3566 ME\, Netherlands
CATEGORIES:Jonge honden module
ORGANIZER;CN="Trainingsschool AW Utrecht":MAILTO:utrecht@trainingsschoolaw.nl
END:VEVENT
BEGIN:VEVENT
DTSTART;VALUE=DATE:20260116
DTEND;VALUE=DATE:20260207
DTSTAMP:20260421T185034
CREATED:20251119T085836Z
LAST-MODIFIED:20260107T095641Z
UID:6266-1768521600-1770422399@trainingsschoolaw.nl
SUMMARY:VOL Samen in balans deel 1 en Jonge Honden Module
DESCRIPTION:Vrijdag avond van 18:30 uur tot 19:30 uur
URL:https://trainingsschoolaw.nl/training/samen-in-balans-deel-1-en-jonge-honden-module-2/
LOCATION:Trainingsschool Heteren\, Polderstraat 34\, Heteren\, Gelderland\, 6666 LD\, Netherlands
CATEGORIES:Jonge honden module,Samen in Balans deel 1
ORGANIZER;CN="Trainingsschool AW Heteren":MAILTO:heteren@trainingsschoolaw.nl
END:VEVENT
BEGIN:VEVENT
DTSTART;VALUE=DATE:20260115
DTEND;VALUE=DATE:20260206
DTSTAMP:20260421T185034
CREATED:20251113T105416Z
LAST-MODIFIED:20260107T102544Z
UID:6109-1768435200-1770335999@trainingsschoolaw.nl
SUMMARY:Samen in Balans 1 / Jonge Honden
DESCRIPTION:Donderdag 10.30 – 11.30 uur
URL:https://trainingsschoolaw.nl/training/samen-in-balans-1-jonge-honden-3/
LOCATION:Trainingsschool AW Tilburg\, Leijpark\, Tilburg\, 5022AX\, Netherlands
CATEGORIES:Jonge honden module,Samen in Balans deel 1
ORGANIZER;CN="Trainingsschool AW Tilburg":MAILTO:tilburg@trainingsschoolaw.nl
END:VEVENT
BEGIN:VEVENT
DTSTART;VALUE=DATE:20260114
DTEND;VALUE=DATE:20260205
DTSTAMP:20260421T185034
CREATED:20250812T112451Z
LAST-MODIFIED:20251209T085410Z
UID:5177-1768348800-1770249599@trainingsschoolaw.nl
SUMMARY:Jonge Honden
DESCRIPTION:Woensdag van 20.00 t/m 21.00 uur
URL:https://trainingsschoolaw.nl/training/jonge-honden-8/
LOCATION:Trainingsschool AW Noordwijk\, Sportpark Duinwetering\, Noordwijk\, 2203 HM\, Netherlands
CATEGORIES:Jonge honden module
ORGANIZER;CN="Trainingsschool AW Noordwijk":MAILTO:noordwijk@trainingsschoolaw.nl
END:VEVENT
BEGIN:VEVENT
DTSTART;VALUE=DATE:20260113
DTEND;VALUE=DATE:20260204
DTSTAMP:20260421T185034
CREATED:20251107T164022Z
LAST-MODIFIED:20260107T150508Z
UID:6005-1768262400-1770163199@trainingsschoolaw.nl
SUMMARY:Jonge honden module
DESCRIPTION:Op dinsdag van 9:00 tot 10:00 uur
URL:https://trainingsschoolaw.nl/training/jonge-honden-module-57/
LOCATION:Trainingsschool AW Zoetermeer\, Parkeerplaats Amerikaweg\, Zoetermeer\, Netherlands
CATEGORIES:Jonge honden module
ORGANIZER;CN="Trainingsschool AW Zoetermeer":MAILTO:zoetermeer@trainingsschoolaw.nl
END:VEVENT
BEGIN:VEVENT
DTSTART;VALUE=DATE:20260112
DTEND;VALUE=DATE:20260203
DTSTAMP:20260421T185034
CREATED:20251204T181735Z
LAST-MODIFIED:20251204T181735Z
UID:6697-1768176000-1770076799@trainingsschoolaw.nl
SUMMARY:Jonge Honden Module
DESCRIPTION:Dag: Maandag \nStartdatum: 12 januari 2026 \nTijd: 19.15-20.15 uur
URL:https://trainingsschoolaw.nl/training/jonge-honden-module-63/
LOCATION:Trainingsschool AW Veldhoven\, Berg 120\, Veldhoven\, 5508AZ\, Netherlands
CATEGORIES:Jonge honden module
ORGANIZER;CN="Trainingsschool AW Veldhoven":MAILTO:veldhoven@trainingsschoolaw.nl
END:VEVENT
BEGIN:VEVENT
DTSTART;VALUE=DATE:20260112
DTEND;VALUE=DATE:20260203
DTSTAMP:20260421T185034
CREATED:20251119T085704Z
LAST-MODIFIED:20260107T095603Z
UID:6260-1768176000-1770076799@trainingsschoolaw.nl
SUMMARY:VOL Samen in balans deel 1 en Jonge Honden Module
DESCRIPTION:Maandag avond van 18:30 uur tot 19:30 uur
URL:https://trainingsschoolaw.nl/training/samen-in-balans-deel-1-en-jonge-honden-module/
LOCATION:Trainingsschool Heteren\, Polderstraat 34\, Heteren\, Gelderland\, 6666 LD\, Netherlands
CATEGORIES:Jonge honden module,Samen in Balans deel 1
ORGANIZER;CN="Trainingsschool AW Heteren":MAILTO:heteren@trainingsschoolaw.nl
END:VEVENT
BEGIN:VEVENT
DTSTART;VALUE=DATE:20260110
DTEND;VALUE=DATE:20260201
DTSTAMP:20260421T185034
CREATED:20251113T211013Z
LAST-MODIFIED:20251113T212030Z
UID:6175-1768003200-1769903999@trainingsschoolaw.nl
SUMMARY:Samen in balans / Jonge honden
DESCRIPTION:Zaterdag 10:15 – 11:15
URL:https://trainingsschoolaw.nl/training/samen-in-balans-jonge-honden-8/
LOCATION:Trainingsschool AW Den Bosch\, Meanderplein\, Sint-Michielsgestel\, 5271 GC\, Netherlands
CATEGORIES:Jonge honden module,Samen in Balans deel 1
ORGANIZER;CN="Trainingsschool AW Den Bosch":MAILTO:denbosch@trainingsschoolaw.nl
END:VEVENT
BEGIN:VEVENT
DTSTART;VALUE=DATE:20260110
DTEND;VALUE=DATE:20260201
DTSTAMP:20260421T185034
CREATED:20251107T164337Z
LAST-MODIFIED:20251202T184300Z
UID:6013-1768003200-1769903999@trainingsschoolaw.nl
SUMMARY:Jonge honden module
DESCRIPTION:Op zaterdag van 9:00 tot 10:00 uur\n(VOL)
URL:https://trainingsschoolaw.nl/training/jonge-honden-module-64/
LOCATION:Trainingsschool AW Zoetermeer\, Parkeerplaats Amerikaweg\, Zoetermeer\, Netherlands
CATEGORIES:Jonge honden module
ORGANIZER;CN="Trainingsschool AW Zoetermeer":MAILTO:zoetermeer@trainingsschoolaw.nl
END:VEVENT
BEGIN:VEVENT
DTSTART;VALUE=DATE:20260109
DTEND;VALUE=DATE:20260131
DTSTAMP:20260421T185034
CREATED:20251113T204819Z
LAST-MODIFIED:20251113T211954Z
UID:6131-1767916800-1769817599@trainingsschoolaw.nl
SUMMARY:Samen in balans / Jonge honden
DESCRIPTION:Vrijdag 18:15 – 19:15
URL:https://trainingsschoolaw.nl/training/samen-in-balans-jonge-honden/
LOCATION:Trainingsschool AW Den Bosch\, Meanderplein\, Sint-Michielsgestel\, 5271 GC\, Netherlands
CATEGORIES:Jonge honden module,Samen in Balans deel 1
ORGANIZER;CN="Trainingsschool AW Den Bosch":MAILTO:denbosch@trainingsschoolaw.nl
END:VEVENT
BEGIN:VEVENT
DTSTART;VALUE=DATE:20251213
DTEND;VALUE=DATE:20260118
DTSTAMP:20260421T185034
CREATED:20251029T131054Z
LAST-MODIFIED:20251204T180742Z
UID:5917-1765584000-1768694399@trainingsschoolaw.nl
SUMMARY:Jonge Honden Module
DESCRIPTION:Dag: Zaterdag \nStartdatum: 13 december 2025 \nTijd: 15.00 – 16.00 uur
URL:https://trainingsschoolaw.nl/training/jonge-honden-module-62/
LOCATION:Trainingsschool AW Veldhoven\, Berg 120\, Veldhoven\, 5508AZ\, Netherlands
CATEGORIES:Jonge honden module
ORGANIZER;CN="Trainingsschool AW Veldhoven":MAILTO:veldhoven@trainingsschoolaw.nl
END:VEVENT
BEGIN:VEVENT
DTSTART;VALUE=DATE:20251205
DTEND;VALUE=DATE:20260110
DTSTAMP:20260421T185034
CREATED:20250929T195450Z
LAST-MODIFIED:20250929T195450Z
UID:5570-1764892800-1768003199@trainingsschoolaw.nl
SUMMARY:Jonge Honden
DESCRIPTION:Op vrijdag\, tijd 10:30 – 11:30 uur
URL:https://trainingsschoolaw.nl/training/jonge-honden-4/
LOCATION:Trainingsschool AW Utrecht\, Gageldijk 3\, Utrecht\, 3566 ME\, Netherlands
CATEGORIES:Jonge honden module
ORGANIZER;CN="Trainingsschool AW Utrecht":MAILTO:utrecht@trainingsschoolaw.nl
END:VEVENT
BEGIN:VEVENT
DTSTART;VALUE=DATE:20251205
DTEND;VALUE=DATE:20251206
DTSTAMP:20260421T185034
CREATED:20250917T153230Z
LAST-MODIFIED:20250917T153230Z
UID:5505-1764892800-1764979199@trainingsschoolaw.nl
SUMMARY:Jonge honden module
DESCRIPTION:op vrijdag van 10:30 – 11:30 uur
URL:https://trainingsschoolaw.nl/training/jonge-honden-module-53/
LOCATION:Trainingsschool AW Apeldoorn\, De Voorwaarts 55\, Apeldoorn\, 7321MA\, Netherlands
CATEGORIES:Jonge honden module
ORGANIZER;CN="Trainingsschool AW Apeldoorn":MAILTO:apeldoorn@trainingsschoolaw.nl
END:VEVENT
BEGIN:VEVENT
DTSTART;VALUE=DATE:20251202
DTEND;VALUE=DATE:20251203
DTSTAMP:20260421T185034
CREATED:20250917T153017Z
LAST-MODIFIED:20251118T153347Z
UID:5493-1764633600-1764719999@trainingsschoolaw.nl
SUMMARY:Jonge honden module (VOL)
DESCRIPTION:op dinsdag van 20:00 – 21:00 uur
URL:https://trainingsschoolaw.nl/training/jonge-honden-module-52/
LOCATION:Trainingsschool AW Apeldoorn\, De Voorwaarts 55\, Apeldoorn\, 7321MA\, Netherlands
CATEGORIES:Jonge honden module
ORGANIZER;CN="Trainingsschool AW Apeldoorn":MAILTO:apeldoorn@trainingsschoolaw.nl
END:VEVENT
BEGIN:VEVENT
DTSTART;VALUE=DATE:20251128
DTEND;VALUE=DATE:20251220
DTSTAMP:20260421T185034
CREATED:20251010T104330Z
LAST-MODIFIED:20251010T104330Z
UID:5655-1764288000-1766188799@trainingsschoolaw.nl
SUMMARY:Jonge honden module
DESCRIPTION:Vrijdag 18:15 – 19:15
URL:https://trainingsschoolaw.nl/training/jonge-honden-module-56/
LOCATION:Trainingsschool AW Den Bosch\, Meanderplein\, Sint-Michielsgestel\, 5271 GC\, Netherlands
CATEGORIES:Jonge honden module
ORGANIZER;CN="Trainingsschool AW Den Bosch":MAILTO:denbosch@trainingsschoolaw.nl
END:VEVENT
BEGIN:VEVENT
DTSTART;VALUE=DATE:20251122
DTEND;VALUE=DATE:20251214
DTSTAMP:20260421T185034
CREATED:20251014T113558Z
LAST-MODIFIED:20251014T113923Z
UID:5727-1763769600-1765670399@trainingsschoolaw.nl
SUMMARY:Samen in Balans 1 / Jonge Honden module
DESCRIPTION:Zaterdag van 10.30 – 11.30 uur
URL:https://trainingsschoolaw.nl/training/samen-in-balans-1-jonge-honden-2/
LOCATION:Trainingsschool AW Tilburg\, Leijpark\, Tilburg\, 5022AX\, Netherlands
CATEGORIES:Jonge honden module,Samen in Balans deel 1
ORGANIZER;CN="Trainingsschool AW Tilburg":MAILTO:tilburg@trainingsschoolaw.nl
END:VEVENT
BEGIN:VEVENT
DTSTART;VALUE=DATE:20251120
DTEND;VALUE=DATE:20251219
DTSTAMP:20260421T185034
CREATED:20250806T091950Z
LAST-MODIFIED:20251113T104422Z
UID:5073-1763596800-1766102399@trainingsschoolaw.nl
SUMMARY:Samen in Balans 1 / Jonge Honden module
DESCRIPTION:Donderdag 19.00 – 20.00 uur\n\nLet op: 4 december vervalt
URL:https://trainingsschoolaw.nl/training/samen-in-balans-1-jonge-honden-module-8/
LOCATION:Trainingsschool AW Tilburg\, Leijpark\, Tilburg\, 5022AX\, Netherlands
CATEGORIES:Jonge honden module,Samen in Balans deel 1
ORGANIZER;CN="Trainingsschool AW Tilburg":MAILTO:tilburg@trainingsschoolaw.nl
END:VEVENT
BEGIN:VEVENT
DTSTART;VALUE=DATE:20251120
DTEND;VALUE=DATE:20251219
DTSTAMP:20260421T185034
CREATED:20250806T091710Z
LAST-MODIFIED:20251113T104222Z
UID:5069-1763596800-1766102399@trainingsschoolaw.nl
SUMMARY:Samen in Balans 1 / Jonge Honden module
DESCRIPTION:Donderdag 10.30 – 11.30 uur\n\nLet op: 4 december vervalt!
URL:https://trainingsschoolaw.nl/training/samen-in-balans-1-jonge-honden-module-7/
LOCATION:Trainingsschool AW Tilburg\, Leijpark\, Tilburg\, 5022AX\, Netherlands
CATEGORIES:Jonge honden module,Samen in Balans deel 1
ORGANIZER;CN="Trainingsschool AW Tilburg":MAILTO:tilburg@trainingsschoolaw.nl
END:VEVENT
BEGIN:VEVENT
DTSTART;VALUE=DATE:20251118
DTEND;VALUE=DATE:20251210
DTSTAMP:20260421T185034
CREATED:20250708T105500Z
LAST-MODIFIED:20250930T094400Z
UID:4763-1763424000-1765324799@trainingsschoolaw.nl
SUMMARY:Jonge honden module
DESCRIPTION:Op dinsdag van 9:00 tot 10:00 uur
URL:https://trainingsschoolaw.nl/training/jonge-honden-module-41/
LOCATION:Trainingsschool AW Zoetermeer\, Parkeerplaats Amerikaweg\, Zoetermeer\, Netherlands
CATEGORIES:Jonge honden module
ORGANIZER;CN="Trainingsschool AW Zoetermeer":MAILTO:zoetermeer@trainingsschoolaw.nl
END:VEVENT
BEGIN:VEVENT
DTSTART;VALUE=DATE:20251117
DTEND;VALUE=DATE:20251209
DTSTAMP:20260421T185034
CREATED:20251011T164454Z
LAST-MODIFIED:20251011T164454Z
UID:5681-1763337600-1765238399@trainingsschoolaw.nl
SUMMARY:Jonge Honden Module
DESCRIPTION:Dag: Maandag \nStartdatum: 17 november 2025 \nTijd: 19.15 – 20.15 uur
URL:https://trainingsschoolaw.nl/training/jonge-honden-module-58/
LOCATION:Trainingsschool AW Veldhoven\, Berg 120\, Veldhoven\, 5508AZ\, Netherlands
CATEGORIES:Jonge honden module
ORGANIZER;CN="Trainingsschool AW Veldhoven":MAILTO:veldhoven@trainingsschoolaw.nl
END:VEVENT
BEGIN:VEVENT
DTSTART;VALUE=DATE:20251117
DTEND;VALUE=DATE:20251209
DTSTAMP:20260421T185034
CREATED:20251107T205137Z
LAST-MODIFIED:20251107T211410Z
UID:6070-1763337600-1765238399@trainingsschoolaw.nl
SUMMARY:Jonge honden module
DESCRIPTION:Maandag 17 nov- 24 nov- 1 dec -8 dec. \nStarttijd: 19.00-20.00 uur.
URL:https://trainingsschoolaw.nl/training/jonge-honden-module-68/
LOCATION:Stox
CATEGORIES:Jonge honden module
ORGANIZER;CN="Trainingsschool AW Roermond":MAILTO:roermond@trainingsschoolaw.nl
END:VEVENT
BEGIN:VEVENT
DTSTART;VALUE=DATE:20251108
DTEND;VALUE=DATE:20251130
DTSTAMP:20260421T185034
CREATED:20251011T164703Z
LAST-MODIFIED:20251011T164703Z
UID:5689-1762560000-1764460799@trainingsschoolaw.nl
SUMMARY:Jonge Honden Module
DESCRIPTION:Dag: Zaterdag \nStartdatum: 8 november 2025 \nTijd: 13.45 – 14.45 uur
URL:https://trainingsschoolaw.nl/training/jonge-honden-module-59/
LOCATION:Trainingsschool AW Veldhoven\, Berg 120\, Veldhoven\, 5508AZ\, Netherlands
CATEGORIES:Jonge honden module
ORGANIZER;CN="Trainingsschool AW Veldhoven":MAILTO:veldhoven@trainingsschoolaw.nl
END:VEVENT
BEGIN:VEVENT
DTSTART;VALUE=DATE:20251107
DTEND;VALUE=DATE:20251108
DTSTAMP:20260421T185034
CREATED:20250917T150627Z
LAST-MODIFIED:20250917T150627Z
UID:5449-1762473600-1762559999@trainingsschoolaw.nl
SUMMARY:Jonge honden module
DESCRIPTION:op vrijdag van 10:30 – 11:30 uur
URL:https://trainingsschoolaw.nl/training/jonge-honden-module-50/
LOCATION:Trainingsschool AW Apeldoorn\, De Voorwaarts 55\, Apeldoorn\, 7321MA\, Netherlands
CATEGORIES:Jonge honden module
ORGANIZER;CN="Trainingsschool AW Apeldoorn":MAILTO:apeldoorn@trainingsschoolaw.nl
END:VEVENT
BEGIN:VEVENT
DTSTART;VALUE=DATE:20251104
DTEND;VALUE=DATE:20251105
DTSTAMP:20260421T185034
CREATED:20250917T150153Z
LAST-MODIFIED:20251008T091546Z
UID:5437-1762214400-1762300799@trainingsschoolaw.nl
SUMMARY:Jonge honden module (VOL)
DESCRIPTION:op dinsdag van 20:00 – 21:00 uur
URL:https://trainingsschoolaw.nl/training/jonge-honden-module-49/
LOCATION:Trainingsschool AW Apeldoorn\, De Voorwaarts 55\, Apeldoorn\, 7321MA\, Netherlands
CATEGORIES:Jonge honden module
ORGANIZER;CN="Trainingsschool AW Apeldoorn":MAILTO:apeldoorn@trainingsschoolaw.nl
END:VEVENT
BEGIN:VEVENT
DTSTART;VALUE=DATE:20251103
DTEND;VALUE=DATE:20251104
DTSTAMP:20260421T185034
CREATED:20250917T145937Z
LAST-MODIFIED:20250917T145937Z
UID:5429-1762128000-1762214399@trainingsschoolaw.nl
SUMMARY:Jonge honden module
DESCRIPTION:op maandag van 20:00 – 21:00 uur
URL:https://trainingsschoolaw.nl/training/jonge-honden-module-48/
LOCATION:Trainingsschool AW Apeldoorn\, De Voorwaarts 55\, Apeldoorn\, 7321MA\, Netherlands
CATEGORIES:Jonge honden module
ORGANIZER;CN="Trainingsschool AW Apeldoorn":MAILTO:apeldoorn@trainingsschoolaw.nl
END:VEVENT
BEGIN:VEVENT
DTSTART;VALUE=DATE:20251102
DTEND;VALUE=DATE:20251201
DTSTAMP:20260421T185034
CREATED:20251017T163553Z
LAST-MODIFIED:20251115T115239Z
UID:5751-1762041600-1764547199@trainingsschoolaw.nl
SUMMARY:Jonge Honden Module
DESCRIPTION:Op de zondag 2 + 9 +16 november + 30 november.\n11:45 uur – 12:45 uur
URL:https://trainingsschoolaw.nl/training/jonge-honden-module-60/
LOCATION:Trainingsschool AW Amersfoort\, Zuiderinslag\, Hoevelaken\, Gelderland\, 3871 MR\, Netherlands
CATEGORIES:Jonge honden module
ATTACH;FMTTYPE=image/jpeg:https://trainingsschoolaw.nl/wp-content/uploads/2025/10/Jonge-honden-module-anniek-winters-2.jpg
ORGANIZER;CN="Trainingsschool AW Amersfoort":MAILTO:amersfoort@trainingsschoolaw.nl
END:VEVENT
BEGIN:VEVENT
DTSTART;VALUE=DATE:20251101
DTEND;VALUE=DATE:20251123
DTSTAMP:20260421T185034
CREATED:20250910T143359Z
LAST-MODIFIED:20250910T143359Z
UID:5348-1761955200-1763855999@trainingsschoolaw.nl
SUMMARY:Jonge Honden Module
DESCRIPTION:Dag: Zaterdag \nStartdatum: 1 november 2025 \nTijd: 15.00 – 16.00 uur
URL:https://trainingsschoolaw.nl/training/jonge-honden-module-46/
LOCATION:Trainingsschool AW Veldhoven\, Berg 120\, Veldhoven\, 5508AZ\, Netherlands
CATEGORIES:Jonge honden module
ORGANIZER;CN="Trainingsschool AW Veldhoven":MAILTO:veldhoven@trainingsschoolaw.nl
END:VEVENT
BEGIN:VEVENT
DTSTART;VALUE=DATE:20251101
DTEND;VALUE=DATE:20251123
DTSTAMP:20260421T185034
CREATED:20250708T104303Z
LAST-MODIFIED:20250708T104303Z
UID:4751-1761955200-1763855999@trainingsschoolaw.nl
SUMMARY:Jonge honden module
DESCRIPTION:Op zaterdag van 9:00 tot 10:00 uur
URL:https://trainingsschoolaw.nl/training/jonge-honden-module-40/
LOCATION:Trainingsschool AW Zoetermeer\, Parkeerplaats Amerikaweg\, Zoetermeer\, Netherlands
CATEGORIES:Jonge honden module
ORGANIZER;CN="Trainingsschool AW Zoetermeer":MAILTO:zoetermeer@trainingsschoolaw.nl
END:VEVENT
BEGIN:VEVENT
DTSTART;VALUE=DATE:20251031
DTEND;VALUE=DATE:20251122
DTSTAMP:20260421T185034
CREATED:20251010T104035Z
LAST-MODIFIED:20251010T104035Z
UID:5647-1761868800-1763769599@trainingsschoolaw.nl
SUMMARY:Jonge honden module
DESCRIPTION:Vrijdag 18:15 – 19:15
URL:https://trainingsschoolaw.nl/training/jonge-honden-module-55/
CATEGORIES:Jonge honden module
ORGANIZER;CN="Trainingsschool AW Den Bosch":MAILTO:denbosch@trainingsschoolaw.nl
END:VEVENT
BEGIN:VEVENT
DTSTART;VALUE=DATE:20251031
DTEND;VALUE=DATE:20251101
DTSTAMP:20260421T185034
CREATED:20250319T223335Z
LAST-MODIFIED:20250319T223335Z
UID:2904-1761868800-1761955199@trainingsschoolaw.nl
SUMMARY:Samen in balans deel 1 / Jonge Honden module
DESCRIPTION:Op vrijdag\, van 18:30 tot 19:30 uur. \nStartdatum 31 oktober.
URL:https://trainingsschoolaw.nl/training/samen-in-balans-deel-1-jonge-honden-module-10/
LOCATION:Trainingsschool AW Heteren\, Polderstraat 34\, Heteren\, 6666 LD\, Netherlands
CATEGORIES:Jonge honden module,Samen in Balans deel 1
ORGANIZER;CN="Trainingsschool AW Heteren":MAILTO:heteren@trainingsschoolaw.nl
END:VEVENT
END:VCALENDAR