BEGIN:VCALENDAR
VERSION:2.0
PRODID:-//Trainingsschool AW - ECPv6.15.20//NONSGML v1.0//EN
CALSCALE:GREGORIAN
METHOD:PUBLISH
X-ORIGINAL-URL:https://trainingsschoolaw.nl
X-WR-CALDESC:Evenementen voor Trainingsschool AW
REFRESH-INTERVAL;VALUE=DURATION:PT1H
X-Robots-Tag:noindex
X-PUBLISHED-TTL:PT1H
BEGIN:VTIMEZONE
TZID:UTC
BEGIN:STANDARD
TZOFFSETFROM:+0000
TZOFFSETTO:+0000
TZNAME:UTC
DTSTART:20240101T000000
END:STANDARD
END:VTIMEZONE
BEGIN:VEVENT
DTSTART;VALUE=DATE:20251027
DTEND;VALUE=DATE:20251028
DTSTAMP:20260421T232036
CREATED:20250319T223203Z
LAST-MODIFIED:20250319T223203Z
UID:2896-1761523200-1761609599@trainingsschoolaw.nl
SUMMARY:Samen in balans deel 1 / Jonge Honden module
DESCRIPTION:Op maandag\, van 18:30 tot 19:30 uur. \nStartdatum 27 oktober.
URL:https://trainingsschoolaw.nl/training/samen-in-balans-deel-1-jonge-honden-module-9/
LOCATION:Trainingsschool AW Heteren\, Polderstraat 34\, Heteren\, 6666 LD\, Netherlands
CATEGORIES:Jonge honden module,Samen in Balans deel 1
ORGANIZER;CN="Trainingsschool AW Heteren":MAILTO:heteren@trainingsschoolaw.nl
END:VEVENT
BEGIN:VEVENT
DTSTART;VALUE=DATE:20251020
DTEND;VALUE=DATE:20251111
DTSTAMP:20260421T232036
CREATED:20250915T162507Z
LAST-MODIFIED:20250915T162507Z
UID:5366-1760918400-1762819199@trainingsschoolaw.nl
SUMMARY:Jonge Honden Module
DESCRIPTION:Dag: Maandag \nStartdatum: 20 oktober 2025 \nTijd: 19.15 – 20.15 uur
URL:https://trainingsschoolaw.nl/training/jonge-honden-module-47/
LOCATION:Trainingsschool AW Veldhoven\, Berg 120\, Veldhoven\, 5508AZ\, Netherlands
CATEGORIES:Jonge honden module
ORGANIZER;CN="Trainingsschool AW Veldhoven":MAILTO:veldhoven@trainingsschoolaw.nl
END:VEVENT
BEGIN:VEVENT
DTSTART;VALUE=DATE:20251018
DTEND;VALUE=DATE:20251109
DTSTAMP:20260421T232036
CREATED:20250806T090951Z
LAST-MODIFIED:20251014T113729Z
UID:5065-1760745600-1762646399@trainingsschoolaw.nl
SUMMARY:Samen in Balans 1 / Jonge Honden module
DESCRIPTION:Zaterdag 10.30 – 11.30 uur\n\nLet op! 18-10-2025 start de les om 11.00 uur ipv 10.30 uur
URL:https://trainingsschoolaw.nl/training/samen-in-balans-1-jonge-honden-module-6/
LOCATION:Trainingsschool AW Tilburg\, Leijpark\, Tilburg\, 5022AX\, Netherlands
CATEGORIES:Jonge honden module,Samen in Balans deel 1
ORGANIZER;CN="Trainingsschool AW Tilburg":MAILTO:tilburg@trainingsschoolaw.nl
END:VEVENT
BEGIN:VEVENT
DTSTART;VALUE=DATE:20251012
DTEND;VALUE=DATE:20251101
DTSTAMP:20260421T232036
CREATED:20250926T084125Z
LAST-MODIFIED:20250926T084737Z
UID:5547-1760227200-1761955199@trainingsschoolaw.nl
SUMMARY:Jonge Honden Module
DESCRIPTION:3 keer op zondag laatste keer op vrijdag 11:30 uur tot 12:30 uur
URL:https://trainingsschoolaw.nl/training/jonge-honden-module-54/
LOCATION:Trainingsschool AW Amersfoort\, Zuiderinslag\, Hoevelaken\, Gelderland\, 3871 MR\, Netherlands
CATEGORIES:Jonge honden module
ORGANIZER;CN="Trainingsschool AW Amersfoort":MAILTO:amersfoort@trainingsschoolaw.nl
END:VEVENT
BEGIN:VEVENT
DTSTART;VALUE=DATE:20251009
DTEND;VALUE=DATE:20251107
DTSTAMP:20260421T232036
CREATED:20250806T094814Z
LAST-MODIFIED:20250903T144612Z
UID:5082-1759968000-1762473599@trainingsschoolaw.nl
SUMMARY:Samen in Balans 1 / Jonge Honden module
DESCRIPTION:Donderdag 19.00 – 20.00 uur\n\nLet op: 16 oktober vervalt ivm de herftvakantie
URL:https://trainingsschoolaw.nl/training/samen-in-balans-1-jonge-honden-module-9/
LOCATION:Trainingsschool AW Tilburg\, Leijpark\, Tilburg\, 5022AX\, Netherlands
CATEGORIES:Jonge honden module,Samen in Balans deel 1
ORGANIZER;CN="Trainingsschool AW Tilburg":MAILTO:tilburg@trainingsschoolaw.nl
END:VEVENT
BEGIN:VEVENT
DTSTART;VALUE=DATE:20251009
DTEND;VALUE=DATE:20251107
DTSTAMP:20260421T232036
CREATED:20250806T085138Z
LAST-MODIFIED:20251014T113658Z
UID:5048-1759968000-1762473599@trainingsschoolaw.nl
SUMMARY:Samen in Balans 1 / Jonge Honden module
DESCRIPTION:Donderdag 10.30 – 11.30 uur\n\nLet op: 16 oktober vervalt ivm herfstvakantie
URL:https://trainingsschoolaw.nl/training/samen-in-balans-1-jonge-honden-module-3/
LOCATION:Trainingsschool AW Tilburg\, Leijpark\, Tilburg\, 5022AX\, Netherlands
CATEGORIES:Jonge honden module,Samen in Balans deel 1
ORGANIZER;CN="Trainingsschool AW Tilburg":MAILTO:tilburg@trainingsschoolaw.nl
END:VEVENT
BEGIN:VEVENT
DTSTART;VALUE=DATE:20251009
DTEND;VALUE=DATE:20251107
DTSTAMP:20260421T232036
CREATED:20250708T102458Z
LAST-MODIFIED:20250916T165854Z
UID:4731-1759968000-1762473599@trainingsschoolaw.nl
SUMMARY:Jonge honden module
DESCRIPTION:Op donderdag van 18:45 tot 19:45 uur ( met uitzondering van 23 oktober)  (vol)
URL:https://trainingsschoolaw.nl/training/jonge-honden-module-36/
LOCATION:Trainingsschool AW Zoetermeer\, Parkeerplaats Amerikaweg\, Zoetermeer\, Netherlands
CATEGORIES:Jonge honden module
ORGANIZER;CN="Trainingsschool AW Zoetermeer":MAILTO:zoetermeer@trainingsschoolaw.nl
END:VEVENT
BEGIN:VEVENT
DTSTART;VALUE=DATE:20251004
DTEND;VALUE=DATE:20251005
DTSTAMP:20260421T232036
CREATED:20250603T154824Z
LAST-MODIFIED:20250820T182523Z
UID:4362-1759536000-1759622399@trainingsschoolaw.nl
SUMMARY:Jonge honden module
DESCRIPTION:Op zaterdag van 10.30 tot 11.30 uur
URL:https://trainingsschoolaw.nl/training/jonge-honden-module-30/
LOCATION:Trainingsschool AW Zwolle\, Botterweg 12E\, Zwolle\, 8042 PA\, Netherlands
CATEGORIES:Jonge honden module
ORGANIZER;CN="Trainingsschool AW Zwolle":MAILTO:zwolle@trainingsschoolaw.nl
END:VEVENT
BEGIN:VEVENT
DTSTART;VALUE=DATE:20251003
DTEND;VALUE=DATE:20251004
DTSTAMP:20260421T232036
CREATED:20250723T113712Z
LAST-MODIFIED:20250723T113712Z
UID:4877-1759449600-1759535999@trainingsschoolaw.nl
SUMMARY:Jonge honden module
DESCRIPTION:op vrijdag van 10:30 – 11:30 uur
URL:https://trainingsschoolaw.nl/training/jonge-honden-module-44/
LOCATION:Trainingsschool AW Apeldoorn\, De Voorwaarts 55\, Apeldoorn\, 7321MA\, Netherlands
CATEGORIES:Jonge honden module
ORGANIZER;CN="Trainingsschool AW Apeldoorn":MAILTO:apeldoorn@trainingsschoolaw.nl
END:VEVENT
BEGIN:VEVENT
DTSTART;VALUE=DATE:20250930
DTEND;VALUE=DATE:20251001
DTSTAMP:20260421T232036
CREATED:20250723T113315Z
LAST-MODIFIED:20250827T172312Z
UID:4865-1759190400-1759276799@trainingsschoolaw.nl
SUMMARY:Jonge honden module (VOL)
DESCRIPTION:op dinsdag van 20:00 – 21:00 uur
URL:https://trainingsschoolaw.nl/training/jonge-honden-module-43/
LOCATION:Trainingsschool AW Apeldoorn\, De Voorwaarts 55\, Apeldoorn\, 7321MA\, Netherlands
CATEGORIES:Jonge honden module
ORGANIZER;CN="Trainingsschool AW Apeldoorn":MAILTO:apeldoorn@trainingsschoolaw.nl
END:VEVENT
BEGIN:VEVENT
DTSTART;VALUE=DATE:20250929
DTEND;VALUE=DATE:20250930
DTSTAMP:20260421T232036
CREATED:20250827T172527Z
LAST-MODIFIED:20250827T172527Z
UID:5280-1759104000-1759190399@trainingsschoolaw.nl
SUMMARY:Jonge honden module (extra ingepland)
DESCRIPTION:op maandag van 20:00 – 21:00 uur
URL:https://trainingsschoolaw.nl/training/jonge-honden-module-extra-ingepland/
LOCATION:Trainingsschool AW Apeldoorn\, De Voorwaarts 55\, Apeldoorn\, 7321MA\, Netherlands
CATEGORIES:Jonge honden module
ORGANIZER;CN="Trainingsschool AW Apeldoorn":MAILTO:apeldoorn@trainingsschoolaw.nl
END:VEVENT
BEGIN:VEVENT
DTSTART;VALUE=DATE:20250927
DTEND;VALUE=DATE:20251026
DTSTAMP:20260421T232036
CREATED:20250809T162459Z
LAST-MODIFIED:20250809T162459Z
UID:5114-1758931200-1761436799@trainingsschoolaw.nl
SUMMARY:Jonge Honden Module
DESCRIPTION:Dag: Zaterdag \nStartdatum: 27 september 2025 \nTijd: 15.00 – 16.00 uur
URL:https://trainingsschoolaw.nl/training/jonge-honden-module-17/
LOCATION:Trainingsschool AW Veldhoven\, Berg 120\, Veldhoven\, 5508AZ\, Netherlands
CATEGORIES:Jonge honden module
ORGANIZER;CN="Trainingsschool AW Veldhoven":MAILTO:veldhoven@trainingsschoolaw.nl
END:VEVENT
BEGIN:VEVENT
DTSTART;VALUE=DATE:20250926
DTEND;VALUE=DATE:20250927
DTSTAMP:20260421T232036
CREATED:20250319T222728Z
LAST-MODIFIED:20250319T222728Z
UID:2876-1758844800-1758931199@trainingsschoolaw.nl
SUMMARY:Samen in balans deel 1 / Jonge Honden module
DESCRIPTION:Op vrijdag\, van 18:30 tot 19:30 uur. \nStartdatum 26 september.
URL:https://trainingsschoolaw.nl/training/samen-in-balans-deel-1-jonge-honden-module-8/
LOCATION:Trainingsschool AW Heteren\, Polderstraat 34\, Heteren\, 6666 LD\, Netherlands
CATEGORIES:Jonge honden module,Samen in Balans deel 1
ORGANIZER;CN="Trainingsschool AW Heteren":MAILTO:heteren@trainingsschoolaw.nl
END:VEVENT
BEGIN:VEVENT
DTSTART;VALUE=DATE:20250922
DTEND;VALUE=DATE:20250923
DTSTAMP:20260421T232036
CREATED:20250319T222553Z
LAST-MODIFIED:20250620T132208Z
UID:2868-1758499200-1758585599@trainingsschoolaw.nl
SUMMARY:Samen in balans deel 1 / Jonge Honden module
DESCRIPTION:Op maandag\, van 18:30 tot 19:30 uur. \nStartdatum 22 september.
URL:https://trainingsschoolaw.nl/training/samen-in-balans-deel-1-jonge-honden-module-7/
LOCATION:Trainingsschool AW Heteren\, Polderstraat 34\, Heteren\, 6666 LD\, Netherlands
CATEGORIES:Jonge honden module,Samen in Balans deel 1
ORGANIZER;CN="Trainingsschool AW Heteren":MAILTO:heteren@trainingsschoolaw.nl
END:VEVENT
BEGIN:VEVENT
DTSTART;VALUE=DATE:20250920
DTEND;VALUE=DATE:20250922
DTSTAMP:20260421T232036
CREATED:20250603T115106Z
LAST-MODIFIED:20250916T180648Z
UID:4321-1758326400-1758499199@trainingsschoolaw.nl
SUMMARY:Samen in balans basis 1 & Jonge honden module in Sneek
DESCRIPTION:Samen in balans deel 1 \nzaterdag 20 september 13:30 – 15:30 \nzaterdag 21 september 13:30 – 15:30 \nSamen in Balans 1: 1 theorieles\, 4 uur praktijkles (€249\,-) \nTrainingsschool AW Zwolle & Enkhuizen
URL:https://trainingsschoolaw.nl/training/samen-in-balans-basis-2-2/
LOCATION:Sneek\, Netherlands
CATEGORIES:Jonge honden module,Samen in Balans deel 1,Samen in balans deel 2
ORGANIZER;CN="Trainingsschool AW Enkhuizen":MAILTO:enkhuizen@trainingsschoolaw.nl
END:VEVENT
BEGIN:VEVENT
DTSTART;VALUE=DATE:20250919
DTEND;VALUE=DATE:20251011
DTSTAMP:20260421T232036
CREATED:20250811T090918Z
LAST-MODIFIED:20250822T130003Z
UID:5126-1758240000-1760140799@trainingsschoolaw.nl
SUMMARY:Jonge Honden Module
DESCRIPTION:Op vrijdag van 10:45 uur tot 11:45 uur
URL:https://trainingsschoolaw.nl/training/jonge-honden-module-42/
LOCATION:Trainingsschool AW Amersfoort\, Zuiderinslag\, Hoevelaken\, Gelderland\, 3871 MR\, Netherlands
CATEGORIES:Jonge honden module
ATTACH;FMTTYPE=image/jpeg:https://trainingsschoolaw.nl/wp-content/uploads/2025/08/Jonge-honden-module-anniek-winters-methode-1-e1742288871852.jpg
ORGANIZER;CN="Trainingsschool AW Amersfoort":MAILTO:amersfoort@trainingsschoolaw.nl
END:VEVENT
BEGIN:VEVENT
DTSTART;VALUE=DATE:20250914
DTEND;VALUE=DATE:20251006
DTSTAMP:20260421T232036
CREATED:20250520T134422Z
LAST-MODIFIED:20250828T090837Z
UID:4217-1757808000-1759708799@trainingsschoolaw.nl
SUMMARY:Jonge Honden Module
DESCRIPTION:op zondag van 11:30 tot 12:30 uur.\nVol!
URL:https://trainingsschoolaw.nl/training/jonge-honden-module-10/
LOCATION:Trainingsschool AW Amersfoort\, Zuiderinslag\, Hoevelaken\, Gelderland\, 3871 MR\, Netherlands
CATEGORIES:Jonge honden module
ATTACH;FMTTYPE=image/jpeg:https://trainingsschoolaw.nl/wp-content/uploads/2025/05/Jonge-honden-module-anniek-winters-2.jpg
ORGANIZER;CN="Trainingsschool AW Amersfoort":MAILTO:amersfoort@trainingsschoolaw.nl
END:VEVENT
BEGIN:VEVENT
DTSTART;VALUE=DATE:20250908
DTEND;VALUE=DATE:20251007
DTSTAMP:20260421T232036
CREATED:20250823T184324Z
LAST-MODIFIED:20250823T184324Z
UID:5265-1757289600-1759795199@trainingsschoolaw.nl
SUMMARY:Jonge Honden Module
DESCRIPTION:Dag: Maandag \nStartdatum: 8 september 2025 \nTijd: 19.15 – 20.15 uur
URL:https://trainingsschoolaw.nl/training/jonge-honden-module-14/
LOCATION:Trainingsschool AW Veldhoven\, Berg 120\, Veldhoven\, 5508AZ\, Netherlands
CATEGORIES:Jonge honden module
ORGANIZER;CN="Trainingsschool AW Veldhoven":MAILTO:veldhoven@trainingsschoolaw.nl
END:VEVENT
BEGIN:VEVENT
DTSTART;VALUE=DATE:20250905
DTEND;VALUE=DATE:20250906
DTSTAMP:20260421T232036
CREATED:20250625T151332Z
LAST-MODIFIED:20250625T151332Z
UID:4647-1757030400-1757116799@trainingsschoolaw.nl
SUMMARY:Jonge honden module
DESCRIPTION:op vrijdag van 10:30 – 11:30 uur
URL:https://trainingsschoolaw.nl/training/jonge-honden-module-38/
LOCATION:Trainingsschool AW Apeldoorn\, De Voorwaarts 55\, Apeldoorn\, 7321MA\, Netherlands
CATEGORIES:Jonge honden module
ORGANIZER;CN="Trainingsschool AW Apeldoorn":MAILTO:apeldoorn@trainingsschoolaw.nl
END:VEVENT
BEGIN:VEVENT
DTSTART;VALUE=DATE:20250904
DTEND;VALUE=DATE:20250905
DTSTAMP:20260421T232036
CREATED:20250625T150731Z
LAST-MODIFIED:20250625T150833Z
UID:4638-1756944000-1757030399@trainingsschoolaw.nl
SUMMARY:Samen in balans deel 2
DESCRIPTION:op donderdag van 20:00 – 21:00 uur
URL:https://trainingsschoolaw.nl/training/jonge-honden-module-20/
LOCATION:Trainingsschool AW Apeldoorn\, De Voorwaarts 55\, Apeldoorn\, 7321MA\, Netherlands
CATEGORIES:Jonge honden module,Samen in balans deel 2
ORGANIZER;CN="Trainingsschool AW Apeldoorn":MAILTO:apeldoorn@trainingsschoolaw.nl
END:VEVENT
BEGIN:VEVENT
DTSTART;VALUE=DATE:20250903
DTEND;VALUE=DATE:20250925
DTSTAMP:20260421T232036
CREATED:20250708T103001Z
LAST-MODIFIED:20250708T103001Z
UID:4739-1756857600-1758758399@trainingsschoolaw.nl
SUMMARY:Jonge honden module
DESCRIPTION:Op woensdag van 9:00 tot 10:00 uur.
URL:https://trainingsschoolaw.nl/training/jonge-honden-module-39/
LOCATION:Trainingsschool AW Zoetermeer\, Parkeerplaats Amerikaweg\, Zoetermeer\, Netherlands
CATEGORIES:Jonge honden module
ORGANIZER;CN="Trainingsschool AW Zoetermeer":MAILTO:zoetermeer@trainingsschoolaw.nl
END:VEVENT
BEGIN:VEVENT
DTSTART;VALUE=DATE:20250903
DTEND;VALUE=DATE:20250925
DTSTAMP:20260421T232036
CREATED:20250320T060241Z
LAST-MODIFIED:20250812T112632Z
UID:2924-1756857600-1758758399@trainingsschoolaw.nl
SUMMARY:Jonge Honden
DESCRIPTION:Op woensdag van 20.00 tot 21.00 uur.
URL:https://trainingsschoolaw.nl/training/jonge-honden-module-11/
LOCATION:Trainingsschool AW Noordwijk\, Sportpark Duinwetering\, Noordwijk\, 2203 HM\, Netherlands
CATEGORIES:Jonge honden module
ORGANIZER;CN="Trainingsschool AW Noordwijk":MAILTO:noordwijk@trainingsschoolaw.nl
END:VEVENT
BEGIN:VEVENT
DTSTART;VALUE=DATE:20250902
DTEND;VALUE=DATE:20250903
DTSTAMP:20260421T232036
CREATED:20250625T150057Z
LAST-MODIFIED:20250723T095734Z
UID:4626-1756771200-1756857599@trainingsschoolaw.nl
SUMMARY:Jonge honden module (VOL)
DESCRIPTION:op dinsdag van 20:00 – 21:00 uur
URL:https://trainingsschoolaw.nl/training/jonge-honden-module-19/
LOCATION:Trainingsschool AW Apeldoorn\, De Voorwaarts 55\, Apeldoorn\, 7321MA\, Netherlands
CATEGORIES:Jonge honden module
ORGANIZER;CN="Trainingsschool AW Apeldoorn":MAILTO:apeldoorn@trainingsschoolaw.nl
END:VEVENT
BEGIN:VEVENT
DTSTART;VALUE=DATE:20250830
DTEND;VALUE=DATE:20250921
DTSTAMP:20260421T232036
CREATED:20250726T112301Z
LAST-MODIFIED:20250809T162612Z
UID:4898-1756512000-1758412799@trainingsschoolaw.nl
SUMMARY:Jonge Honden Module
DESCRIPTION:Dag: Zaterdag \nStartdatum: 30 augustus 2025 \nTijd: 12.15 – 13.15 uur
URL:https://trainingsschoolaw.nl/training/jonge-honden-module-45/
LOCATION:Trainingsschool AW Veldhoven\, Berg 120\, Veldhoven\, 5508AZ\, Netherlands
CATEGORIES:Jonge honden module
ORGANIZER;CN="Trainingsschool AW Veldhoven":MAILTO:veldhoven@trainingsschoolaw.nl
END:VEVENT
BEGIN:VEVENT
DTSTART;VALUE=DATE:20250829
DTEND;VALUE=DATE:20250920
DTSTAMP:20260421T232036
CREATED:20250520T193549Z
LAST-MODIFIED:20250520T193549Z
UID:4234-1756425600-1758326399@trainingsschoolaw.nl
SUMMARY:Jonge honden module
DESCRIPTION:Op vrijdag\, 18:15 – 19:15
URL:https://trainingsschoolaw.nl/training/jonge-honden-module-23/
CATEGORIES:Jonge honden module
ORGANIZER;CN="Trainingsschool AW Den Bosch":MAILTO:denbosch@trainingsschoolaw.nl
END:VEVENT
BEGIN:VEVENT
DTSTART;VALUE=DATE:20250829
DTEND;VALUE=DATE:20250830
DTSTAMP:20260421T232036
CREATED:20250319T222207Z
LAST-MODIFIED:20250319T222207Z
UID:2852-1756425600-1756511999@trainingsschoolaw.nl
SUMMARY:Samen in balans deel 1 / Jonge Honden module
DESCRIPTION:Op vrijdag\, van 18:30 tot 19:30 uur. \nStartdatum 29 augustus.
URL:https://trainingsschoolaw.nl/training/samen-in-balans-deel-1-jonge-honden-module-6/
LOCATION:Trainingsschool AW Heteren\, Polderstraat 34\, Heteren\, 6666 LD\, Netherlands
CATEGORIES:Jonge honden module,Samen in Balans deel 1
ORGANIZER;CN="Trainingsschool AW Heteren":MAILTO:heteren@trainingsschoolaw.nl
END:VEVENT
BEGIN:VEVENT
DTSTART;VALUE=DATE:20250825
DTEND;VALUE=DATE:20250826
DTSTAMP:20260421T232036
CREATED:20250319T221934Z
LAST-MODIFIED:20250319T221934Z
UID:2840-1756080000-1756166399@trainingsschoolaw.nl
SUMMARY:Samen in balans deel 1 / Jonge Honden module
DESCRIPTION:Op maandag\, van 18:30 tot 19:30 uur. \nStartdatum 25 augustus.
URL:https://trainingsschoolaw.nl/training/samen-in-balans-deel-1-jonge-honden-module-5/
LOCATION:Trainingsschool AW Heteren\, Polderstraat 34\, Heteren\, 6666 LD\, Netherlands
CATEGORIES:Jonge honden module,Samen in Balans deel 1
ORGANIZER;CN="Trainingsschool AW Heteren":MAILTO:heteren@trainingsschoolaw.nl
END:VEVENT
BEGIN:VEVENT
DTSTART;VALUE=DATE:20250820
DTEND;VALUE=DATE:20250911
DTSTAMP:20260421T232036
CREATED:20250609T142516Z
LAST-MODIFIED:20250812T075008Z
UID:4450-1755648000-1757548799@trainingsschoolaw.nl
SUMMARY:Jonge honden module
DESCRIPTION:Op woensdag 20 augustus starttijd: 19.00-20.00 uur \nDe theorieles ontvang je voor de start van de module.
URL:https://trainingsschoolaw.nl/training/jonge-honden-module-37/
LOCATION:Trainingsschool AW Roermond\, Schaarbroekerweg 4A\, Roermond\, 6042 EJ\, Netherlands
CATEGORIES:Jonge honden module
ORGANIZER;CN="Trainingsschool AW Roermond":MAILTO:roermond@trainingsschoolaw.nl
END:VEVENT
BEGIN:VEVENT
DTSTART;VALUE=DATE:20250721
DTEND;VALUE=DATE:20250819
DTSTAMP:20260421T232036
CREATED:20250604T132917Z
LAST-MODIFIED:20250809T162659Z
UID:4403-1753056000-1755561599@trainingsschoolaw.nl
SUMMARY:Jonge Honden Module
DESCRIPTION:Dag: Maandag \nStartdatum: 21 juli 2025 \nTijd: 19.15 – 20.15 uur
URL:https://trainingsschoolaw.nl/training/jonge-honden-module-35/
LOCATION:Trainingsschool AW Veldhoven\, Berg 120\, Veldhoven\, 5508AZ\, Netherlands
CATEGORIES:Jonge honden module
ORGANIZER;CN="Trainingsschool AW Veldhoven":MAILTO:veldhoven@trainingsschoolaw.nl
END:VEVENT
BEGIN:VEVENT
DTSTART;VALUE=DATE:20250704
DTEND;VALUE=DATE:20250705
DTSTAMP:20260421T232036
CREATED:20250522T094911Z
LAST-MODIFIED:20250522T094911Z
UID:4291-1751587200-1751673599@trainingsschoolaw.nl
SUMMARY:Jonge honden module
DESCRIPTION:op vrijdag van 10:30 – 11:30 uur
URL:https://trainingsschoolaw.nl/training/jonge-honden-module-28/
LOCATION:Trainingsschool AW Apeldoorn\, De Voorwaarts 55\, Apeldoorn\, 7321MA\, Netherlands
CATEGORIES:Jonge honden module
ORGANIZER;CN="Trainingsschool AW Apeldoorn":MAILTO:apeldoorn@trainingsschoolaw.nl
END:VEVENT
END:VCALENDAR